BEGIN:VCALENDAR
VERSION:2.0
PRODID:-//Solbukta - ECPv6.15.20//NONSGML v1.0//EN
CALSCALE:GREGORIAN
METHOD:PUBLISH
X-WR-CALNAME:Solbukta
X-ORIGINAL-URL:https://solbukta.no
X-WR-CALDESC:Arrangement for Solbukta
REFRESH-INTERVAL;VALUE=DURATION:PT1H
X-Robots-Tag:noindex
X-PUBLISHED-TTL:PT1H
BEGIN:VTIMEZONE
TZID:Europe/Oslo
BEGIN:DAYLIGHT
TZOFFSETFROM:+0100
TZOFFSETTO:+0200
TZNAME:CEST
DTSTART:20250330T010000
END:DAYLIGHT
BEGIN:STANDARD
TZOFFSETFROM:+0200
TZOFFSETTO:+0100
TZNAME:CET
DTSTART:20251026T010000
END:STANDARD
BEGIN:DAYLIGHT
TZOFFSETFROM:+0100
TZOFFSETTO:+0200
TZNAME:CEST
DTSTART:20260329T010000
END:DAYLIGHT
BEGIN:STANDARD
TZOFFSETFROM:+0200
TZOFFSETTO:+0100
TZNAME:CET
DTSTART:20261025T010000
END:STANDARD
BEGIN:DAYLIGHT
TZOFFSETFROM:+0100
TZOFFSETTO:+0200
TZNAME:CEST
DTSTART:20270328T010000
END:DAYLIGHT
BEGIN:STANDARD
TZOFFSETFROM:+0200
TZOFFSETTO:+0100
TZNAME:CET
DTSTART:20271031T010000
END:STANDARD
BEGIN:DAYLIGHT
TZOFFSETFROM:+0100
TZOFFSETTO:+0200
TZNAME:CEST
DTSTART:20280326T010000
END:DAYLIGHT
BEGIN:STANDARD
TZOFFSETFROM:+0200
TZOFFSETTO:+0100
TZNAME:CET
DTSTART:20281029T010000
END:STANDARD
END:VTIMEZONE
BEGIN:VEVENT
DTSTART;TZID=Europe/Oslo:20260423T180000
DTEND;TZID=Europe/Oslo:20260423T210000
DTSTAMP:20260423T161205
CREATED:20260224T235311Z
LAST-MODIFIED:20260405T175900Z
UID:32343-1776967200-1776978000@solbukta.no
SUMMARY:Elvis 4ever: EKSTRA! (23. april)
DESCRIPTION:«Elvis 4ever» blir den siste i en rekke forestillinger om Elvis Presley og med hans største hits. Datoer: torsdag 19. mars (utsolgt)\, torsdag 26. mars (utsolgt)\, og: 2 ekstraforestillinger: \nOnsdag 15. april og torsdag 23. april! \nMiddagen starter kl 18.00\, etterfulgt av konsert. Kvelden er ferdig 21.00. Oppmøte: ca 17.30 anbefales. \nVi håper DU vil komme og være med på en siste runde med «Elvis» her på Solbukta! I «Elvis 4ever» vil vi absolutt ha fokus på hans største hits\, de vi husker han best for. Vi må også innom det som av Elvis sine egne favorittsanger; nemlig Gospelen\,- og vi skal denne gangen også innom film-musikken! Kanskje ikke alle filmene var av like høy kvalitet. Men SANGENE fra filmene husker vi…som f.eks. «Love me tender»\, «Wooden heart» og «King Creol».
URL:https://solbukta.no/arrangement/elvis-4ever-ekstra-23-april/
LOCATION:Solbukta\, Solbuktaveien 33\, Gresvik\, 1621\, Norge
ATTACH;FMTTYPE=image/jpeg:https://solbukta.no/wp-content/uploads/2025/08/Elvis-4ever-A3-bredde.jpg
ORGANIZER;CN="Solbukta":MAILTO:booking@solbukta.no
END:VEVENT
BEGIN:VEVENT
DTSTART;TZID=Europe/Oslo:20260515T180000
DTEND;TZID=Europe/Oslo:20260515T210000
DTSTAMP:20260423T161205
CREATED:20251203T170907Z
LAST-MODIFIED:20260328T163808Z
UID:31175-1778868000-1778878800@solbukta.no
SUMMARY:NaviGaithers
DESCRIPTION:Noe av den mest populære kristen musikken i verden er musikken fra Bill Gaither og «Gaither Vocal Band»! \nSolbukta presenterer nå en ny gruppe som skal synge southern gospel\, og country gospel musikk! Gruppa heter «NaviGaithers» og skal synge musikk fra både Gaither Vocal Band sitt reportuar og andre tidløse sanger i samme sjanger. Du får møte: Bjørnar Spydevold\, Morten Gjerløw Larsen\, Niklas Arnesen\, Trond Gilberg og Sander Amadeus Thoresen. \nDu kan oppleve deres første konsert og urfremførelsen av reportuaret til «NaviGaithers» FREDAG 15. MAI på Solbukta. Det starter med mat kl 18.00 og konsert rett etterfulgt av maten (middagsbuffet m/ dessert og kaffe). Alt for kr 475\,- !
URL:https://solbukta.no/arrangement/navigaithers/
LOCATION:Solbukta\, Solbuktaveien 33\, Gresvik\, 1621\, Norge
CATEGORIES:ALkoholfritt,Konsert,Konserter
ATTACH;FMTTYPE=image/jpeg:https://solbukta.no/wp-content/uploads/2025/12/Navigaithers-nettbilde-2.jpg
ORGANIZER;CN="Solbukta":MAILTO:booking@solbukta.no
END:VEVENT
BEGIN:VEVENT
DTSTART;TZID=Europe/Oslo:20260525T120000
DTEND;TZID=Europe/Oslo:20260525T150000
DTSTAMP:20260423T161205
CREATED:20260421T215758Z
LAST-MODIFIED:20260421T215758Z
UID:33166-1779710400-1779721200@solbukta.no
SUMMARY:2. pinsedag
DESCRIPTION:Velkommen til 2. pinsedag på Solbukta! \nGratis arrangement med FriluftsGudstjeneste på brygga kl. 12.00\, så åpen kiosk og åpen grill (egengrilling) fra kl 13.30! \nVelkommen til Gudstjeneste i det fri + sosialt samvær\, grilling og en is i sola? 🙂
URL:https://solbukta.no/arrangement/2-pinsedag/
LOCATION:Solbukta\, Solbuktaveien 33\, Gresvik\, 1621\, Norge
CATEGORIES:Gudstjeneste
ATTACH;FMTTYPE=image/jpeg:https://solbukta.no/wp-content/uploads/2026/03/Brygga-sommer-full-av-bater-scaled.jpg
ORGANIZER;CN="Solbukta":MAILTO:booking@solbukta.no
END:VEVENT
BEGIN:VEVENT
DTSTART;TZID=Europe/Oslo:20260612T160000
DTEND;TZID=Europe/Oslo:20260614T140000
DTSTAMP:20260423T161205
CREATED:20260325T142400Z
LAST-MODIFIED:20260325T142445Z
UID:32842-1781280000-1781445600@solbukta.no
SUMMARY:Sommerleir 2026\, 5.-7. trinn
DESCRIPTION:Da er årets sommerleir ute for påmelding! Klikk på lenken under for mer info og påmelding! \nSommerleir på Solbukta – Norsk Luthersk Misjonssamband
URL:https://solbukta.no/arrangement/sommerleir-2026-5-7-trinn/
LOCATION:Solbukta\, Solbuktaveien 33\, Gresvik\, 1621\, Norge
CATEGORIES:Sommerleir
ATTACH;FMTTYPE=image/jpeg:https://solbukta.no/wp-content/uploads/2025/01/Sommerleir-2025.jpg
END:VEVENT
BEGIN:VEVENT
DTSTART;TZID=Europe/Oslo:20260619T160000
DTEND;TZID=Europe/Oslo:20260621T140000
DTSTAMP:20260423T161205
CREATED:20260325T142710Z
LAST-MODIFIED:20260325T142710Z
UID:32844-1781884800-1782050400@solbukta.no
SUMMARY:Sommerleir 2026\, 1.-4. trinn
DESCRIPTION:Da er sommerleir 2026 lagt ut for påmelding! Klikk på lenken under for mer info og påmelding! \nMinisommerleir på Solbukta – Norsk Luthersk Misjonssamband
URL:https://solbukta.no/arrangement/sommerleir-2026-1-4-trinn/
LOCATION:Solbukta\, Solbuktaveien 33\, Gresvik\, 1621\, Norge
CATEGORIES:Sommerleir
ATTACH;FMTTYPE=image/jpeg:https://solbukta.no/wp-content/uploads/2025/01/sommerleir-2024-scaled.jpg
END:VEVENT
BEGIN:VEVENT
DTSTART;TZID=Europe/Oslo:20260706T150000
DTEND;TZID=Europe/Oslo:20260712T160000
DTSTAMP:20260423T161205
CREATED:20260310T193333Z
LAST-MODIFIED:20260314T232207Z
UID:32620-1783350000-1783872000@solbukta.no
SUMMARY:TID Familie: en unik sommerleir!
DESCRIPTION:Nytt leirkonsept på Solbukta! Begrenset antall plasser\, så vi anbefaler påmelding ganske snart. \nDette er en fantastisk familie «retreat»-leir som har hatt stor suksess i utlandet\, som vi nå lanserer i Norge! Klikk under for mer info og eventuelt påmelding! \nSolbukta leirsted\, Fredrikstad – Norsk Luthersk Misjonssamband \n      \nVi har beach volley bane\, fotball-løkke\, badeflåte\, strand rett ved\, vannsklie\, basket\, tråbåter og kanoer. Fredrikstad sentrum ligger ca 10 km unna. Gamlebyen (nordens best bevarte festningsby) er absolutt verdt et besøk!.
URL:https://solbukta.no/arrangement/tid-familie-en-unik-sommerleir/
LOCATION:Solbukta\, Solbuktaveien 33\, Gresvik\, 1621\, Norge
CATEGORIES:Retreat,Sommerfestival,Sommerleir
ATTACH;FMTTYPE=image/jpeg:https://solbukta.no/wp-content/uploads/2026/03/Brygga-sommer-full-av-bater-scaled.jpg
END:VEVENT
BEGIN:VEVENT
DTSTART;VALUE=DATE:20260731
DTEND;VALUE=DATE:20260803
DTSTAMP:20260423T161205
CREATED:20251107T190919Z
LAST-MODIFIED:20260422T214731Z
UID:30753-1785456000-1785715199@solbukta.no
SUMMARY:SolbuktaFestivalen 2026
DESCRIPTION:Vi fikk veldig mye positivt tilbake for 2025-versjonen av SolbuktaFestivalen. Derfor syns vi det er viktig å tenke i de samme baner for 2026! Vi kommer bl.a. til å gjenta suksessen med «Nashville minner» også kalt: «Alle tiders sang-minner» 🙂 -En helt ny kveld/helt ny konsert selvsagt\, men samme tema. OG: Det er nå også spilt inn «Alle tiders sanger 2» som kommer på TV i 2026. Kanskje du får litt innblikk i SESONG 2 også! 🙂 \nDu kan oppleve: Mikael Järlestrand\, Cilla Hector\, Linda Järlestrand og David & Sara Åström kommer. Det gjør også Clas Vårdstedt\, som du bare kan glede deg til å oppleve i «Alle tiders sanger 2» !!! \nEn annen nyhet er «NaviGAITHERS»: Morten Gjerløw Larsen\, Bjørnar Spydevold\, Niklas Arnesen\, Sander Amadeus Thoresen og Trond Gilberg i en festkonsert med «Gaither sanger» kombinert med humor\, gospelfest og livshistorier. \nSøndagen er det møter m/ musikk\, og der kan du også oppleve flere av artistene fra «Nashville»/»Alle tiders sanger»! \nI forhold til mat og logistikk så jobber vi hele tiden med å lage en festival som er så bekvem og hyggelig som mulig for alle. i 2026 vil vi legge til rette for flere ting utendørs\, selv om konsertene er inne. Det vil bl.a. bli et eget grilltelt slik at; dersom spisesalen er full (utsolgt for matbilletter) så kan man gå til grill-teltet og enkelt få seg litt mat til en hyggelig pris. \nPriser: \nFestivalen har 10-års jubileum i år! I den anledning har vi laget et TILBUD til deg\, ved bestilling før 1. mars! Et ektepar/vennepar e.l. kan faktisk spare flere 100 kroner ved å f.eks bestille Campingpass (camping i 2 døgn inkl. alle opplevelser) eller festivalpass før 1. mars. Prisene du finner på festivalpass etc. nedenfor\, er rabatterte priser. Disse prisene går opp 1. mars. \nOvernatting: De fleste rommene har eget bad. Sengetøy og håndklær er ikke inkludert. (kan medbringes\, eller du må skrive i din bestilling at du vil ha sengetøy/håndklær). I bestillingen fins det et felt for «merknader». Her kan du skrive f.eks «vi ønsker sengetøy og håndklær» så legges dette på rommet ditt (kr 130\,- ekstra pr pers).. \nNedenfor ser du billettene du kan kjøpe på tilbud. \nMerk deg at hele helgen er èn festival. Fra start fredag ettermiddag og helt til siste møte søndag er ferdig. (Alt som skjer på søndag har også gratis inngang). \nVELKOMMEN TIL SOLBUKTAFESTIVALEN 2026!! \nForeløpig program/tidsskjema:\nFREDAG \nfra 12.00: ankomst \n18.00: NaviGaithers \n19.00-21.00: Middagsbuffet \n21.00: Clas Vårdstedt \nLØRDAG: \n09.00: Frokost (for de som overnatter) \n11.00: Morgenandakt/bønnesamling med Øystein Olimb \n12.00-14.00: Lunsjbuffet \n14.00: Sarah & David Åström (Her vil du få fantastiske sanger OG historier du sent vil glemme!) \n17.00: Cilla Hector\, Mikael Järlestrand og Linda Järlestrand \n18.00-20.00: Middagsbuffet \n20.00: «Alle tiders sang-minner» (Møt flere av artistene som var med i Nashville OG som er med i «Alle tiders sanger 2» som kommer på tv i 2026) \nSØNDAG: \n09.00: Frokost (for de som overnatter) \n12.00: Møte med sang/musikk\, andakt/tale: Sverre Bøe \n13.30-15.00: Mat\, Buffet \n15.00: Gospelgudstjeneste med Gospelkoret moments m/ andakt/tale. \nNoen av artistene som har konserter fredag/lørdag\, medvirker på sangmøtene på søndagen også! \n 
URL:https://solbukta.no/arrangement/solbuktafestivalen-2026/
LOCATION:Solbukta\, Solbuktaveien 33\, Gresvik\, 1621\, Norge
CATEGORIES:ALkoholfritt,Festival,Sommerfestival
ATTACH;FMTTYPE=image/jpeg:https://solbukta.no/wp-content/uploads/2025/11/Solbuktafestivalen-2026-nettbilde-1.jpg
ORGANIZER;CN="Solbukta":MAILTO:booking@solbukta.no
END:VEVENT
BEGIN:VEVENT
DTSTART;TZID=Europe/Oslo:20261127T190000
DTEND;TZID=Europe/Oslo:20261127T220000
DTSTAMP:20260423T161205
CREATED:20260308T230457Z
LAST-MODIFIED:20260326T112305Z
UID:32582-1795806000-1795816800@solbukta.no
SUMMARY:Jul i bukta: JUBILEUM!
DESCRIPTION:I år er det 10 år siden vi startet med våre alkoholfrie julebord! Det betyr at november/desember 2026 blir det JUBILEUMSSHOW! \nAlt blir som før\, med buffet-middag\, dessert\, kaffe og juleshow. Showet er NYTT hvert år\, dog i 2026 blir det litt «highlights»! 🙂 \nRenate og Morten med det samme fantastiske bandet inviterer igjen til juleshow med julestemning\, julebudskap og humor! \nJUBILEUMSTILBUD! \nI anledning jubileet\, ønsker vi å tilby alle våre gamle og nye gjester et godt tilbud! Vi har også litt viktig informasjon til deg som vurderer/planlegger å bestille plasser! \nSE HER: \n\nUtover sommeren kommer vi til å legge ut «Jul i bukta» for salg (ca 1. august). Det lønner seg å bestille tidlig.\nDe 2 første datoene (fredag 27.11. og lørdag 28.11.) tilbyr vi en ekstra-rabattert pris: kr 895\,-! (Ord.pris kr 940\,-). Denne prisen er inkl. alt! Du får altså både julemiddag på buffet inkl. dessert og kaffe OG juleshow. Alt for 940\,-! (Dette er ca halv pris sammenlignet med mange andre steder. På Solbukta er det også gratis parkering\, så du slipper å legge inn den kostnaden i budsjettet ditt).\nGrupper: har du en gruppe på min. 20 personer: da tilbyr vi grupperabatt og pris 895\,- pr pers.! Ta kontakt med oss\, så gjør vi bookingen for deg\, og du kan motta faktura senere. Det er også mulig å få drikke på regning og faktura i etterkant. (post@solbukta.no)\n«Dårlig plasser»: Vi syns selv at ingen plasser hos oss er dårlige plasser. Man både ser og hører bra over alt. MEN: om du er en av de som ikke vil sitte helt bakerst: skriv en «merknad» i bestillingen din at du ikke vil sitte helt bakerst. Om det kun er plasser helt bakerst igjen\, så kontakter vi deg for eventuell endring i din bestilling.\nHar du utfordringer med bestilling på nett\,- ring oss! Så lenge du har Vipps\, kan vi hjelpe deg og gjennomføre bestillingen for deg\, på telefon. Det fins også flere muligheter\, så nøl ikke med å ta kontakt.\n\nEpost: post@solbukta.no Telefon: 69 33 11 68 \nForeløpig er altså ikke forestillingene lagt ut for salg\, men det kommer på andre siden av sommerferien. Men datoene kan du notere deg under\, og planlegge i din kalender for høsten:) \nFredag 27.11. (Tilbud til alle våre gjester: pris pr pers: kr 895\,- i stedet for 940\,-) \nLørdag 28.11. (Tilbud til alle våre gjester: pris pr pers. kr 895\,- i stedet for 940\,-) \nOnsdag 2.12. \nTorsdag 3.12. \nFredag 4.12. \nLørdag 5.12. \nOnsdag 9.12. \nTorsdag 10.12. \nFredag 11.12. \nLørdag 12.12. \nOnsdag 16.12. \nTorsdag 17.12. \nMIDDAGEN STARTER 19.00. DERFOR BØR MAN MØTE CA 18.30. (Dørene er åpne fra 18.00) \nHJERTELIG VELKOMMEN TIL «JUL I BUKTA: JUBILEUM»! \n 
URL:https://solbukta.no/arrangement/jul/
LOCATION:Solbukta\, Solbuktaveien 33\, Gresvik\, 1621\, Norge
CATEGORIES:Alkoholfri,ALkoholfritt,Fellesskap,Jul,Julebord,Julemat,Juleshow
ATTACH;FMTTYPE=image/jpeg:https://solbukta.no/wp-content/uploads/2026/03/Jul-i-bukta-10-JUBILEUM-nettbilde.jpg
ORGANIZER;CN="Solbukta":MAILTO:booking@solbukta.no
END:VEVENT
BEGIN:VEVENT
DTSTART;VALUE=DATE:20270820
DTEND;VALUE=DATE:20270823
DTSTAMP:20260423T161205
CREATED:20260218T230452Z
LAST-MODIFIED:20260218T230453Z
UID:32207-1818720000-1818979199@solbukta.no
SUMMARY:Ledig helg!
DESCRIPTION:
URL:https://solbukta.no/arrangement/ledig-helg/
LOCATION:Solbukta\, Solbuktaveien 33\, Gresvik\, 1621\, Norge
CATEGORIES:Bibelcamp,Fellesskap,Leir
ATTACH;FMTTYPE=image/jpeg:https://solbukta.no/wp-content/uploads/2022/05/kelly-sikkema-mvlhrt1h8bs-unsplash.jpg
ORGANIZER;CN="Solbukta":MAILTO:booking@solbukta.no
END:VEVENT
END:VCALENDAR