BEGIN:VCALENDAR
VERSION:2.0
PRODID:-//Solbukta - ECPv6.15.20//NONSGML v1.0//EN
CALSCALE:GREGORIAN
METHOD:PUBLISH
X-ORIGINAL-URL:https://solbukta.no
X-WR-CALDESC:Arrangement for Solbukta
REFRESH-INTERVAL;VALUE=DURATION:PT1H
X-Robots-Tag:noindex
X-PUBLISHED-TTL:PT1H
BEGIN:VTIMEZONE
TZID:Europe/Oslo
BEGIN:DAYLIGHT
TZOFFSETFROM:+0100
TZOFFSETTO:+0200
TZNAME:CEST
DTSTART:20200329T010000
END:DAYLIGHT
BEGIN:STANDARD
TZOFFSETFROM:+0200
TZOFFSETTO:+0100
TZNAME:CET
DTSTART:20201025T010000
END:STANDARD
BEGIN:DAYLIGHT
TZOFFSETFROM:+0100
TZOFFSETTO:+0200
TZNAME:CEST
DTSTART:20210328T010000
END:DAYLIGHT
BEGIN:STANDARD
TZOFFSETFROM:+0200
TZOFFSETTO:+0100
TZNAME:CET
DTSTART:20211031T010000
END:STANDARD
BEGIN:DAYLIGHT
TZOFFSETFROM:+0100
TZOFFSETTO:+0200
TZNAME:CEST
DTSTART:20220327T010000
END:DAYLIGHT
BEGIN:STANDARD
TZOFFSETFROM:+0200
TZOFFSETTO:+0100
TZNAME:CET
DTSTART:20221030T010000
END:STANDARD
END:VTIMEZONE
BEGIN:VEVENT
DTSTART;VALUE=DATE:20210720
DTEND;VALUE=DATE:20210725
DTSTAMP:20260419T155710
CREATED:20210202T202608Z
LAST-MODIFIED:20210518T160647Z
UID:4334-1626739200-1627171199@solbukta.no
SUMMARY:Skjærgårdsferien 2021: hjemme-ferie med familien til lav pris!
DESCRIPTION:Skjærgårdsferien på Solbukta er et tilbud vi er veldig stolte av. Det er en familieferie med LITT leirpreg. Programmet er helt valgfritt. Man kan nyte late dager i solen\, bade\, dra på båttur\, spille fotball\, leke i vannsklia eller spille volleyball turnering på beach-volley banen. Du kan ankomme i campingvogn\, båt eller du kan leie kjempekoselige rom med eget bad. \nVi serverer «flexi-frokost» fra kl 08.30-10.30 (dette betyr at du ikke behøver å stå opp så tidlig) OG du kan smøre deg matpakke inkludert i prisen\, og slippe å betale for lunsj. Vi serverer middag kl 17.00. I tillegg får du tilgang til enkel kveldsmat (knekkebrød\, corn flakes\, enkel påleggsbuffet) inkludert i prisen\, hvis du leier rom. \nFamilieferien starter tirsdag 20. juli og varer til lørdag 24. juli. Torsdag 22. juli er det «maritim aften» (kun for Skjærgårdsferiens deltakere). Her drar vi på båttur til Strømtangen Fyr\, nyter skjærgårdsidyllen i Onsøylandet\, og koser oss med «havets festbord» servert ute på fyret. Dette er også inkludert i prisen\, dersom du leier rom. \nDersom du bor i båt er prisen kr 200\,- / 260\,- pr døgn inkl strøm + måltider. Campingvogn/bil: kr 300\,- pr døgn + måltider. \nFlexifrokost koster kr 110\,- (Voksen/ fra 15 år) og 80\,- (barn under 15 år) Dette er altså inkludert matpakke! \nMiddag kr 150\,- (voksen/ fra 15 år) og kr 100\,- (barn under 15 år). \nMaritim Aften (Sjømat buffet på Strømtangen fyr) kr 225\,- pr voksen/ fra 15 år) og kr 100\,- pr barn under 15 år. \nOvernatting: leie av rom med bad (pr døgn) kr 300 pr voksen og 200 pr barn (under 15 år). Maxpris pr familie i flersengsrom: kr  800\,- pr døgn. Enkeltromstillegg (om du vil bo alene på ett rom) kr 200\,- pr døgn. Sengetøy er ikke inkludert\, men kan medbringes eller leies (på bestilling) for kr 110\,- pr sett. Sovepose er ikke tillatt av hygieniske årsaker. Det legges dyne og pute på alle senger. \nTALERE PÅ SKJÆRGÅRDSFERIEN 2021: Martin Dyngeland og Sveinung Thingbø! \nVi har egne ung-ledere på ferie-leiren som kan se til barna mens du som forelder kan få litt tid i sola med lukkede øyne:-) Vi drar igang litt leker og aktiviteter i løpet av dagen for den som vil. Vi pleier også å ta en tur til byen en dag og kanskje en tur på bowling eller kino hvis det regner en av kveldene. \nVi har også kveldsåpen kiosk nede på brygga hvor vi pleier å ha siste del av dagen med kaffe\, vafler\, godis\, is og myggspray! 🙂 \nSolbukta er et 100% rusfritt sted. Vi ønsker at denne ferien også skal være helt rus/alkoholfri og ber alle deltakere om å respektere dette. \nDetaljer om program og talere kommer snart. Men hver dag har vi morgenbønn ute i frukthagen. Vi har samling/møte både for barn\, ungdom og voksne\, med både sang og tale/andakt. Vi ønsker å skape et sosialt fellesskap på «Skjærgårdsferien» og håper alle vil delta på kveldssamlingene etter middagen. Men alt i programmet er altså helt frivillig:) \nVi har nå åpnet påmeldingen! Klikk deg inn nederst i arrangementet her på nettsiden for å melde deg på! All betaling skjer først ved ankomst 20. juli. Dersom noe er uklart kan du sende en mail til: post@solbukta.no \nDu kan også ringe oss på tlf 69 33 11 68. Velkommen til Skjærgårdsferien sommeren 2021! \n 
URL:https://solbukta.no/arrangement/skjaergardsferien-2021-norsk-familieferie-til-lav-pris/
LOCATION:Solbukta\, Solbuktaveien 33\, Gresvik\, 1621\, Norge
CATEGORIES:Familieferie,Sommerleir
ATTACH;FMTTYPE=image/jpeg:https://solbukta.no/wp-content/uploads/2021/02/Brygga-sommer-full-av-bater-scaled-e1737643862565.jpg
ORGANIZER;CN="Solbukta":MAILTO:booking@solbukta.no
END:VEVENT
END:VCALENDAR