BEGIN:VCALENDAR
VERSION:2.0
PRODID:-//Solbukta - ECPv6.15.20//NONSGML v1.0//EN
CALSCALE:GREGORIAN
METHOD:PUBLISH
X-WR-CALNAME:Solbukta
X-ORIGINAL-URL:https://solbukta.no
X-WR-CALDESC:Arrangement for Solbukta
REFRESH-INTERVAL;VALUE=DURATION:PT1H
X-Robots-Tag:noindex
X-PUBLISHED-TTL:PT1H
BEGIN:VTIMEZONE
TZID:Europe/Oslo
BEGIN:DAYLIGHT
TZOFFSETFROM:+0100
TZOFFSETTO:+0200
TZNAME:CEST
DTSTART:20210328T010000
END:DAYLIGHT
BEGIN:STANDARD
TZOFFSETFROM:+0200
TZOFFSETTO:+0100
TZNAME:CET
DTSTART:20211031T010000
END:STANDARD
BEGIN:DAYLIGHT
TZOFFSETFROM:+0100
TZOFFSETTO:+0200
TZNAME:CEST
DTSTART:20220327T010000
END:DAYLIGHT
BEGIN:STANDARD
TZOFFSETFROM:+0200
TZOFFSETTO:+0100
TZNAME:CET
DTSTART:20221030T010000
END:STANDARD
BEGIN:DAYLIGHT
TZOFFSETFROM:+0100
TZOFFSETTO:+0200
TZNAME:CEST
DTSTART:20230326T010000
END:DAYLIGHT
BEGIN:STANDARD
TZOFFSETFROM:+0200
TZOFFSETTO:+0100
TZNAME:CET
DTSTART:20231029T010000
END:STANDARD
END:VTIMEZONE
BEGIN:VEVENT
DTSTART;TZID=Europe/Oslo:20220201T180000
DTEND;TZID=Europe/Oslo:20220201T210000
DTSTAMP:20260421T101725
CREATED:20211124T233446Z
LAST-MODIFIED:20220130T133811Z
UID:7850-1643738400-1643749200@solbukta.no
SUMMARY:KONGEN & Koldtbord 1. feb
DESCRIPTION:Nytt «lunsjkonsept» nå også som middag! Og på den musikalske menyen er det nå ELVIS sin tur! Renate & Morten har presentert for oss både Prøysen\, Erik Bye\, Evert Taube og Salmer til lunsj. Harald Høidahl og Hege Saugstad har gitt oss «Simon & Garfunkel – til lunsj». Nå er det dags for Kongen av dem alle: ELVIS! Dette kombineres som vanlig med vårt utsøkte koldtbord. \nSer du nøye på de fire arrangementene med «Kongen & koldtbord» (Elvis) så vil du se at det ene arrangementet (20. januar) er lunsjkonsert (starter kl 12.00 og slutter 15.00). De to neste: (1. februar og 17. februar) er middags-arrangement og starter kl 18.00 (ferdig ca 21.00). Onsdag 9. mars er det lunsj igjen (kl 12.00-15.00) \nDette kan kanskje være en koselig GAVE til en du er glad i?? \nPris LUNSJ & Konsert kr 350\,- pr. pers. Pris MIDDAG & konsert: kr 450\,- \nDette er inkludert både buffet/koldtbordet\, dessert\, kaffe og konserten! \nBestill i god tid! Vi stopper nå foreløpig på 50 plasser pga koronaen. Velkommen!! \nen!!
URL:https://solbukta.no/arrangement/kongen-koldtbord/
LOCATION:Solbukta\, Solbuktaveien 33\, Gresvik\, 1621\, Norge
CATEGORIES:Konserter
ATTACH;FMTTYPE=application/pdf:https://solbukta.no/wp-content/uploads/2021/11/KONGEN-koldtbord-nett-bilde.pdf
ORGANIZER;CN="Solbukta":MAILTO:booking@solbukta.no
END:VEVENT
BEGIN:VEVENT
DTSTART;TZID=Europe/Oslo:20220214T180000
DTEND;TZID=Europe/Oslo:20220214T203000
DTSTAMP:20260421T101725
CREATED:20220109T200040Z
LAST-MODIFIED:20220109T201842Z
UID:8218-1644861600-1644870600@solbukta.no
SUMMARY:Inn i bibelen - ut i livet
DESCRIPTION:BIBELKVELDENE våre fortsetter med: \nEgil Sjaastad er teolog\, forfatter og dosent emeritus ved Fjellhaug Internasjonale høgskole. Han skal undervise om Ruts bok i Bibelen og i hverdagen. \nVi blir kjent med Ruts bok i Det gamle Testamente. En bok om livskriser\, om godhet mennesker imellom og Guds velsignelse. \nVi ønsker deg velkommen én eller flere kvelder! I kalenderen vår på forsiden finner du bibelkveldene. Du kan også trykker HER for mer informasjon/påmelding.
URL:https://solbukta.no/arrangement/inn-i-bibelen-ut-i-livet-2/
LOCATION:Solbukta\, Solbuktaveien 33\, Gresvik\, 1621\, Norge
CATEGORIES:Fellesskap
ATTACH;FMTTYPE=image/jpeg:https://solbukta.no/wp-content/uploads/2022/01/Egil-Sjaastad-1.jpg
ORGANIZER;CN="Solbukta":MAILTO:booking@solbukta.no
END:VEVENT
BEGIN:VEVENT
DTSTART;TZID=Europe/Oslo:20220217T180000
DTEND;TZID=Europe/Oslo:20220217T210000
DTSTAMP:20260421T101725
CREATED:20211124T234806Z
LAST-MODIFIED:20220115T230827Z
UID:7863-1645120800-1645131600@solbukta.no
SUMMARY:KONGEN & Koldtbord 17. feb.
DESCRIPTION:Nytt «lunsjkonsept» nå også som middag! Og på den musikalske menyen er det nå ELVIS sin tur! Renate & Morten har presentert for oss både Prøysen\, Erik Bye\, Evert Taube og Salmer til lunsj. Harald Høidahl og Hege Saugstad har gitt oss «Simon & Garfunkel – til lunsj». Nå er det dags for Kongen av dem alle: ELVIS! Dette kombineres som vanlig med vårt utsøkte koldtbord. \nSer du nøye på de fire arrangementene med «Kongen & koldtbord» (Elvis) så vil du se at det ene arrangementet (20. januar) er lunsjkonsert (starter kl 12.00 og slutter 15.00). De to neste: (1. februar og 17. februar) er middags-arrangement og starter kl 18.00 (ferdig ca 21.00). Onsdag 9. mars er det lunsj igjen (kl 12.00-15.00) \nDette kan kanskje være en koselig GAVE til en du er glad i?? \nPris LUNSJ & Konsert kr 350\,- pr. pers. Pris MIDDAG & konsert: kr 450\,- \nDette er inkludert både buffet/koldtbordet\, dessert\, kaffe og konserten! \nBestill i god tid! Vi stopper nå foreløpig på 50 plasser pga koronaen. Velkommen!!
URL:https://solbukta.no/arrangement/kongen-koldtbord-2/
LOCATION:Solbukta\, Solbuktaveien 33\, Gresvik\, 1621\, Norge
CATEGORIES:Konserter
ATTACH;FMTTYPE=application/pdf:https://solbukta.no/wp-content/uploads/2021/11/KONGEN-koldtbord-nett-bilde-1.pdf
ORGANIZER;CN="Solbukta":MAILTO:booking@solbukta.no
END:VEVENT
BEGIN:VEVENT
DTSTART;TZID=Europe/Oslo:20220221T080000
DTEND;TZID=Europe/Oslo:20220221T170000
DTSTAMP:20260421T101725
CREATED:20220221T143750Z
LAST-MODIFIED:20220221T143750Z
UID:9052-1645430400-1645462800@solbukta.no
SUMMARY:BBB-leir !
DESCRIPTION:Da er påmeldingen åpen til vårens BBB-leir! Vi ønsker nye og gamle deltakere hjertelig velkommen! \nPåmelding: \nBBB-leir: Vår – Norsk Luthersk Misjonssamband (nlm.no)
URL:https://solbukta.no/arrangement/bbb-leir-2/
LOCATION:Solbukta\, Solbuktaveien 33\, Gresvik\, 1621\, Norge
CATEGORIES:Leir,Vår-leir
ATTACH;FMTTYPE=image/jpeg:https://solbukta.no/wp-content/uploads/2020/09/besteforeldre-3-–-Kopi.jpg
END:VEVENT
BEGIN:VEVENT
DTSTART;TZID=Europe/Oslo:20220228T120000
DTEND;TZID=Europe/Oslo:20220228T150000
DTSTAMP:20260421T101725
CREATED:20220218T161249Z
LAST-MODIFIED:20220218T161249Z
UID:9044-1646049600-1646060400@solbukta.no
SUMMARY:Årsmøte Solbuktas støttegruppe
DESCRIPTION:Servering\, årsmøtesaker\, andakt ved Frode Granerud\, sang og musikk Gro og Jon Ekeberg. \nAlle er hjertelig velkommen!
URL:https://solbukta.no/arrangement/arsmote-solbuktas-stottegruppe/
LOCATION:Solbukta\, Solbuktaveien 33\, Gresvik\, 1621\, Norge
CATEGORIES:Fellesskap
END:VEVENT
END:VCALENDAR