BEGIN:VCALENDAR
VERSION:2.0
PRODID:-//Solbukta - ECPv6.15.20//NONSGML v1.0//EN
CALSCALE:GREGORIAN
METHOD:PUBLISH
X-WR-CALNAME:Solbukta
X-ORIGINAL-URL:https://solbukta.no
X-WR-CALDESC:Arrangement for Solbukta
REFRESH-INTERVAL;VALUE=DURATION:PT1H
X-Robots-Tag:noindex
X-PUBLISHED-TTL:PT1H
BEGIN:VTIMEZONE
TZID:Europe/Oslo
BEGIN:DAYLIGHT
TZOFFSETFROM:+0100
TZOFFSETTO:+0200
TZNAME:CEST
DTSTART:20200329T010000
END:DAYLIGHT
BEGIN:STANDARD
TZOFFSETFROM:+0200
TZOFFSETTO:+0100
TZNAME:CET
DTSTART:20201025T010000
END:STANDARD
BEGIN:DAYLIGHT
TZOFFSETFROM:+0100
TZOFFSETTO:+0200
TZNAME:CEST
DTSTART:20210328T010000
END:DAYLIGHT
BEGIN:STANDARD
TZOFFSETFROM:+0200
TZOFFSETTO:+0100
TZNAME:CET
DTSTART:20211031T010000
END:STANDARD
BEGIN:DAYLIGHT
TZOFFSETFROM:+0100
TZOFFSETTO:+0200
TZNAME:CEST
DTSTART:20220327T010000
END:DAYLIGHT
BEGIN:STANDARD
TZOFFSETFROM:+0200
TZOFFSETTO:+0100
TZNAME:CET
DTSTART:20221030T010000
END:STANDARD
END:VTIMEZONE
BEGIN:VEVENT
DTSTART;TZID=Europe/Oslo:20211201T183000
DTEND;TZID=Europe/Oslo:20211201T220000
DTSTAMP:20260423T102342
CREATED:20210317T122315Z
LAST-MODIFIED:20211129T143635Z
UID:4847-1638383400-1638396000@solbukta.no
SUMMARY:"JUL I BUKTA 5" (1. des)
DESCRIPTION:For 5. året på rad kan du oppleve JUL I BUKTA: det alkoholfrie alternativet! 2020 og pandemi-restriksjoner gjorde ting vanskelig. Men vi klarte å gjennomføre 16 juleshow på Solbukta og heldigvis uten noe som helst smitteutbrudd. \nVi fikk veldig skryt for våre smittevern-tiltak\, og disse videreføres kommende jul\, i den grad det vil være nødvendig. Om restriksjonene skulle være helt borte\, vil Solbukta uansett fortsette å ha fokus på god håndhygiene og vi vil ikke fylle opp salen «til randen» slik vi gjorde i 2019. Vi vil holde antall gjester pr kveld nede på et forsvarlig nivå\, uansett om alle restriksjoner er fjernet. \nVELKOMMEN TIL JUL I BUKTA! Vi kommer mest sannsynlig ikke til å legge ut ekstraforestillinger i år\, så bestill i god tid. Spilleplanen vår blir: premiere torsdag 25. november\, så spiller vi onsdag\, torsdag\, fredag og lørdager de 3 neste ukene (lørdag 18. desember blir siste forestilling før jul).
URL:https://solbukta.no/arrangement/jul-i-bukta-5-1-des/
LOCATION:Solbukta\, Solbuktaveien 33\, Gresvik\, 1621\, Norge
CATEGORIES:Konserter
ATTACH;FMTTYPE=image/jpeg:https://solbukta.no/wp-content/uploads/2021/03/Jul-i-bukta-5-bilde-bredde-1.jpg
ORGANIZER;CN="Solbukta":MAILTO:booking@solbukta.no
END:VEVENT
BEGIN:VEVENT
DTSTART;TZID=Europe/Oslo:20211202T183000
DTEND;TZID=Europe/Oslo:20211202T220000
DTSTAMP:20260423T102342
CREATED:20210317T124657Z
LAST-MODIFIED:20211126T104438Z
UID:4854-1638469800-1638482400@solbukta.no
SUMMARY:"JUL I BUKTA 5" (2. des)
DESCRIPTION:For 5. året på rad kan du oppleve JUL I BUKTA: det alkoholfrie alternativet! 2020 og pandemi-restriksjoner gjorde ting vanskelig\, men vi klarte å gjennomføre 16 juleshow på Solbukta og heldigvis uten noe som helst smitteutbrudd. \nVi fikk veldig skryt for våre smittevern-tiltak\, og disse videreføres kommende jul\, i den grad det vil være nødvendig. Om restriksjonene skulle være helt borte\, vil Solbukta uansett fortsette å ha fokus på god håndhygiene og vi vil ikke fylle opp salen «til randen» slik vi gjorde i 2019. Vi vil holde antall gjester pr kveld nede på et forsvarlig nivå\, uansett om alle restriksjoner er fjernet. \nVELKOMMEN TIL JUL I BUKTA! Vi kommer mest sannsynlig ikke til å legge ut ekstraforestillinger i år\, så bestill i god tid. Spilleplanen vår blir: premiere torsdag 25. november\, så spiller vi onsdag\, torsdag\, fredag og lørdager de 3 neste ukene (lørdag 18. desember blir siste forestilling før jul).
URL:https://solbukta.no/arrangement/jul-i-bukta-5-2-des/
LOCATION:Solbukta\, Solbuktaveien 33\, Gresvik\, 1621\, Norge
CATEGORIES:Konserter
ATTACH;FMTTYPE=image/jpeg:https://solbukta.no/wp-content/uploads/2021/03/Jul-i-bukta-5-bilde-bredde-1.jpg
ORGANIZER;CN="Solbukta":MAILTO:booking@solbukta.no
END:VEVENT
BEGIN:VEVENT
DTSTART;TZID=Europe/Oslo:20211203T183000
DTEND;TZID=Europe/Oslo:20211203T220000
DTSTAMP:20260423T102342
CREATED:20210317T125912Z
LAST-MODIFIED:20210820T133728Z
UID:4864-1638556200-1638568800@solbukta.no
SUMMARY:"JUL I BUKTA 5" (3. des)
DESCRIPTION:For 5. året på rad kan du oppleve JUL I BUKTA: det alkoholfrie alternativet! 2020 og pandemi-restriksjoner gjorde ting vanskelig\, men vi klarte å gjennomføre 16 juleshow på Solbukta og heldigvis uten noe som helst smitteutbrudd. \nVi fikk veldig skryt for våre smittevern-tiltak\, og disse videreføres kommende jul\, i den grad det vil være nødvendig. Om restriksjonene skulle være helt borte\, vil Solbukta uansett fortsette å ha fokus på god håndhygiene og vi vil ikke fylle opp salen «til randen» slik vi gjorde i 2019. Vi vil holde antall gjester pr kveld nede på et forsvarlig nivå\, uansett om alle restriksjoner er fjernet. \nVELKOMMEN TIL JUL I BUKTA! Vi kommer mest sannsynlig ikke til å legge ut ekstraforestillinger i år\, så bestill i god tid. Spilleplanen vår blir: premiere torsdag 25. november\, så spiller vi onsdag\, torsdag\, fredag og lørdager de 3 neste ukene (lørdag 18. desember blir siste forestilling før jul).
URL:https://solbukta.no/arrangement/jul-i-bukta-5-3-des/
LOCATION:Solbukta\, Solbuktaveien 33\, Gresvik\, 1621\, Norge
CATEGORIES:Konserter
ATTACH;FMTTYPE=image/jpeg:https://solbukta.no/wp-content/uploads/2021/03/Jul-i-bukta-5-bilde-bredde-1.jpg
ORGANIZER;CN="Solbukta":MAILTO:booking@solbukta.no
END:VEVENT
BEGIN:VEVENT
DTSTART;TZID=Europe/Oslo:20211204T183000
DTEND;TZID=Europe/Oslo:20211204T220000
DTSTAMP:20260423T102342
CREATED:20210317T131625Z
LAST-MODIFIED:20210909T125343Z
UID:4870-1638642600-1638655200@solbukta.no
SUMMARY:"JUL I BUKTA 5" (4. des)
DESCRIPTION:For 5. året på rad kan du oppleve JUL I BUKTA: det alkoholfrie alternativet! 2020 og pandemi-restriksjoner gjorde ting vanskelig\, men vi klarte å gjennomføre 16 juleshow på Solbukta og heldigvis uten noe som helst smitteutbrudd. \nVi fikk veldig skryt for våre smittevern-tiltak\, og disse videreføres kommende jul\, i den grad det vil være nødvendig. Om restriksjonene skulle være helt borte\, vil Solbukta uansett fortsette å ha fokus på god håndhygiene og vi vil ikke fylle opp salen «til randen» slik vi gjorde i 2019. Vi vil holde antall gjester pr kveld nede på et forsvarlig nivå\, uansett om alle restriksjoner er fjernet. \nVELKOMMEN TIL JUL I BUKTA! Vi kommer mest sannsynlig ikke til å legge ut ekstraforestillinger i år\, så bestill i god tid. Spilleplanen vår blir: premiere torsdag 25. november\, så spiller vi onsdag\, torsdag\, fredag og lørdager de 3 neste ukene (lørdag 18. desember blir siste forestilling før jul).
URL:https://solbukta.no/arrangement/jul-i-bukta-5-4-des/
LOCATION:Solbukta\, Solbuktaveien 33\, Gresvik\, 1621\, Norge
CATEGORIES:Konserter
ATTACH;FMTTYPE=image/jpeg:https://solbukta.no/wp-content/uploads/2021/03/Jul-i-bukta-5-bilde-bredde-1.jpg
ORGANIZER;CN="Solbukta":MAILTO:booking@solbukta.no
END:VEVENT
BEGIN:VEVENT
DTSTART;TZID=Europe/Oslo:20211207T180000
DTEND;TZID=Europe/Oslo:20211207T210000
DTSTAMP:20260423T102342
CREATED:20211127T163334Z
LAST-MODIFIED:20211127T163546Z
UID:7915-1638900000-1638910800@solbukta.no
SUMMARY:Den tradisjonelle JULEMIDDAGEN 7. desember
DESCRIPTION:Dette er den «gamle» julemiddagen som «alltid» har vært på Solbukta. «Jul i bukta» er det nye julebordskonseptet med show og middag\, men den tradisjonelle julemiddagen som er på tirsdag i den første hele desember-uka er noe annet:) \nHer inviterer vi alle Solbuktavenner\, dugnadsfolk\, tidligere ansatte\, og alle andre frivillige og/eller folk som har et forhold til Solbukta. Vi starter med oppmøte kl 18.00\, julemiddag på buffet serveres fra kl 18.30. Her står god mat og det sosiale i høysetet. Og er vi heldige så får vi et par innslag av tale eller kanskje en liten julefortelling? \nVi ber om forhåndspåmelding fordi vi må vite hvor mange vi skal beregne mat til. Det står her på nettsiden ved påmelding at det er gratis. Prisen er kr 250\,- pr person for julemiddag med dessert. Men på dette arrangementet som venter vi med betaling til du har ankommet. Da blir det også lettere å melde på flere personer/på vegne av andre. \nVed ankomst kan du betale både med kort og kontant. Meld deg på nå og betal først når du ankommer! Velkommen!
URL:https://solbukta.no/arrangement/den-tradisjonelle-julemiddagen-7-desember/
LOCATION:Solbukta\, Solbuktaveien 33\, Gresvik\, 1621\, Norge
CATEGORIES:Fellesskap
ATTACH;FMTTYPE=image/jpeg:https://solbukta.no/wp-content/uploads/2020/11/Julemiddag-bilde.jpg
ORGANIZER;CN="Solbukta":MAILTO:booking@solbukta.no
END:VEVENT
BEGIN:VEVENT
DTSTART;TZID=Europe/Oslo:20211208T183000
DTEND;TZID=Europe/Oslo:20211208T220000
DTSTAMP:20260423T102342
CREATED:20210610T222249Z
LAST-MODIFIED:20210820T133903Z
UID:5093-1638988200-1639000800@solbukta.no
SUMMARY:"Jul i bukta 5" (8. des)
DESCRIPTION:For 5. året på rad kan du oppleve JUL I BUKTA: det alkoholfrie alternativet! 2020 og pandemi-restriksjoner gjorde ting vanskelig\, men vi klarte å gjennomføre 16 juleshow på Solbukta og heldigvis uten noe som helst smitteutbrudd. \nVi fikk veldig skryt for våre smittevern-tiltak\, og disse videreføres kommende jul\, i den grad det vil være nødvendig. Om restriksjonene skulle være helt borte\, vil Solbukta uansett fortsette å ha fokus på god håndhygiene og vi vil ikke fylle opp salen «til randen» slik vi gjorde i 2018 og 2019. Vi vil holde antall gjester pr kveld nede på et forsvarlig nivå\, uansett om alle restriksjoner er fjernet. \nVELKOMMEN TIL JUL I BUKTA! Av erfaring kan det være lurt å bestille i god tid. Spilleplanen vår blir: premiere torsdag 25. november\, så spiller vi onsdag\, torsdag\, fredag og lørdager de 3 neste ukene (lørdag 18. desember blir siste forestilling før jul).
URL:https://solbukta.no/arrangement/jul-i-bukta-5-8-12/
LOCATION:Solbukta\, Solbuktaveien 33\, Gresvik\, 1621\, Norge
CATEGORIES:Konserter
ATTACH;FMTTYPE=image/jpeg:https://solbukta.no/wp-content/uploads/2021/03/Jul-i-bukta-5-bilde-bredde-1.jpg
ORGANIZER;CN="Solbukta":MAILTO:booking@solbukta.no
END:VEVENT
BEGIN:VEVENT
DTSTART;TZID=Europe/Oslo:20211209T183000
DTEND;TZID=Europe/Oslo:20211209T220000
DTSTAMP:20260423T102342
CREATED:20210610T224419Z
LAST-MODIFIED:20211116T221018Z
UID:5098-1639074600-1639087200@solbukta.no
SUMMARY:"Jul i bukta 5" (9. des)
DESCRIPTION:For 5. året på rad kan du oppleve JUL I BUKTA: det alkoholfrie alternativet! 2020 og pandemi-restriksjoner gjorde ting vanskelig\, men vi klarte å gjennomføre 16 juleshow på Solbukta og heldigvis uten noe som helst smitteutbrudd.\nVi fikk veldig skryt for våre smittevern-tiltak\, og disse videreføres kommende jul\, i den grad det vil være nødvendig. Om restriksjonene skulle være helt borte\, vil Solbukta uansett fortsette å ha fokus på god håndhygiene og vi vil ikke fylle opp salen «til randen» slik vi gjorde i 2018 og 2019. Vi vil holde antall gjester pr kveld nede på et forsvarlig nivå\, uansett om alle restriksjoner er fjernet.\nVELKOMMEN TIL JUL I BUKTA! Av erfaring kan det være lurt å bestille i god tid. Spilleplanen vår blir: premiere torsdag 25. november\, så spiller vi onsdag\, torsdag\, fredag og lørdager de 3 neste ukene (lørdag 18. desember blir siste forestilling før jul).
URL:https://solbukta.no/arrangement/jul-i-bukta-5-9-des/
LOCATION:Solbukta\, Solbuktaveien 33\, Gresvik\, 1621\, Norge
CATEGORIES:Konserter
ATTACH;FMTTYPE=image/jpeg:https://solbukta.no/wp-content/uploads/2021/03/Jul-i-bukta-5-bilde-bredde-1.jpg
ORGANIZER;CN="Solbukta":MAILTO:booking@solbukta.no
END:VEVENT
BEGIN:VEVENT
DTSTART;TZID=Europe/Oslo:20211210T183000
DTEND;TZID=Europe/Oslo:20211210T220000
DTSTAMP:20260423T102342
CREATED:20210817T154914Z
LAST-MODIFIED:20210907T211020Z
UID:5955-1639161000-1639173600@solbukta.no
SUMMARY:"Jul i bukta 5" (10.des)
DESCRIPTION:For 5. året på rad kan du oppleve JUL I BUKTA: det alkoholfrie alternativet! 2020 og pandemi-restriksjoner gjorde ting vanskelig\, men vi klarte å gjennomføre 16 juleshow på Solbukta og heldigvis uten noe som helst smitteutbrudd.\nVi fikk veldig skryt for våre smittevern-tiltak\, og disse videreføres kommende jul\, i den grad det vil være nødvendig. Om restriksjonene skulle være helt borte\, vil Solbukta uansett fortsette å ha fokus på god håndhygiene og vi vil ikke fylle opp salen «til randen» slik vi gjorde i 2018 og 2019. Vi vil holde antall gjester pr kveld nede på et forsvarlig nivå.\nVELKOMMEN TIL JUL I BUKTA! \nAv erfaring kan det være lurt å bestille i god tid. Spilleplanen vår blir: premiere torsdag 25. november\, så spiller vi onsdag\, torsdag\, fredag og lørdager de 3 neste ukene (lørdag 18. desember blir siste forestilling før jul).
URL:https://solbukta.no/arrangement/jul-i-bukta-5-10-des/
LOCATION:Solbukta\, Solbuktaveien 33\, Gresvik\, 1621\, Norge
CATEGORIES:Konserter
ATTACH;FMTTYPE=image/jpeg:https://solbukta.no/wp-content/uploads/2021/03/Jul-i-bukta-5-bilde-bredde-1.jpg
ORGANIZER;CN="Solbukta":MAILTO:booking@solbukta.no
END:VEVENT
BEGIN:VEVENT
DTSTART;TZID=Europe/Oslo:20211211T183000
DTEND;TZID=Europe/Oslo:20211211T220000
DTSTAMP:20260423T102342
CREATED:20210817T163509Z
LAST-MODIFIED:20211113T194730Z
UID:5959-1639247400-1639260000@solbukta.no
SUMMARY:"Jul i bukta 5" (11. des)
DESCRIPTION:For 5. året på rad kan du oppleve JUL I BUKTA: det alkoholfrie alternativet! 2020 og pandemi-restriksjoner gjorde ting vanskelig\, men vi klarte å gjennomføre 16 juleshow på Solbukta og heldigvis uten noe som helst smitteutbrudd.\nVi fikk veldig skryt for våre smittevern-tiltak\, og disse videreføres kommende jul\, i den grad det vil være nødvendig. Om restriksjonene skulle være helt borte\, vil Solbukta uansett fortsette å ha fokus på god håndhygiene og vi vil ikke fylle opp salen «til randen» slik vi gjorde i 2018 og 2019. Vi vil holde antall gjester pr kveld nede på et forsvarlig nivå.\nVELKOMMEN TIL JUL I BUKTA! \nAv erfaring kan det være lurt å bestille i god tid. Spilleplanen vår blir: premiere torsdag 25. november\, så spiller vi onsdag\, torsdag\, fredag og lørdager de 3 neste ukene (lørdag 18. desember blir siste forestilling før jul).
URL:https://solbukta.no/arrangement/jul-i-bukta-5-11-des/
LOCATION:Solbukta\, Solbuktaveien 33\, Gresvik\, 1621\, Norge
CATEGORIES:Konserter
ATTACH;FMTTYPE=image/jpeg:https://solbukta.no/wp-content/uploads/2021/03/Jul-i-bukta-5-bilde-bredde-1.jpg
ORGANIZER;CN="Solbukta":MAILTO:booking@solbukta.no
END:VEVENT
BEGIN:VEVENT
DTSTART;TZID=Europe/Oslo:20211215T183000
DTEND;TZID=Europe/Oslo:20211215T220000
DTSTAMP:20260423T102342
CREATED:20210825T085759Z
LAST-MODIFIED:20210825T090210Z
UID:5969-1639593000-1639605600@solbukta.no
SUMMARY:"Jul i bukta 5" (15. des)
DESCRIPTION:For 5. året på rad kan du oppleve JUL I BUKTA: det alkoholfrie alternativet! 2020 og pandemi-restriksjoner gjorde ting vanskelig\, men vi klarte å gjennomføre 16 juleshow på Solbukta og heldigvis uten noe som helst smitteutbrudd.\nVi fikk veldig skryt for våre smittevern-tiltak\, og disse videreføres kommende jul\, i den grad det vil være nødvendig. Om restriksjonene skulle være helt borte\, vil Solbukta uansett fortsette å ha fokus på god håndhygiene og vi vil ikke fylle opp salen «til randen» slik vi gjorde i 2018 og 2019. Vi vil holde antall gjester pr kveld nede på et forsvarlig nivå.\nVELKOMMEN TIL JUL I BUKTA! \nAv erfaring kan det være lurt å bestille i god tid. Spilleplanen vår blir: premiere torsdag 25. november\, så spiller vi onsdag\, torsdag\, fredag og lørdager de 3 neste ukene (lørdag 18. desember blir siste forestilling før jul).
URL:https://solbukta.no/arrangement/jul-i-bukta-5-15-des/
LOCATION:Solbukta\, Solbuktaveien 33\, Gresvik\, 1621\, Norge
CATEGORIES:Konserter
ATTACH;FMTTYPE=image/jpeg:https://solbukta.no/wp-content/uploads/2021/03/Jul-i-bukta-5-bilde-bredde-1.jpg
ORGANIZER;CN="Solbukta":MAILTO:booking@solbukta.no
END:VEVENT
BEGIN:VEVENT
DTSTART;TZID=Europe/Oslo:20211216T183000
DTEND;TZID=Europe/Oslo:20211216T220000
DTSTAMP:20260423T102342
CREATED:20210825T090303Z
LAST-MODIFIED:20210906T154359Z
UID:5972-1639679400-1639692000@solbukta.no
SUMMARY:"Jul i bukta 5" (16. des)
DESCRIPTION:For 5. året på rad kan du oppleve JUL I BUKTA: det alkoholfrie alternativet! 2020 og pandemi-restriksjoner gjorde ting vanskelig\, men vi klarte å gjennomføre 16 juleshow på Solbukta og heldigvis uten noe som helst smitteutbrudd.\nVi fikk veldig skryt for våre smittevern-tiltak\, og disse videreføres kommende jul\, i den grad det vil være nødvendig. Om restriksjonene skulle være helt borte\, vil Solbukta uansett fortsette å ha fokus på god håndhygiene og vi vil ikke fylle opp salen «til randen» slik vi gjorde i 2018 og 2019. Vi vil holde antall gjester pr kveld nede på et forsvarlig nivå.\nVELKOMMEN TIL JUL I BUKTA! \nAv erfaring kan det være lurt å bestille i god tid. Spilleplanen vår blir: premiere torsdag 25. november\, så spiller vi onsdag\, torsdag\, fredag og lørdager de 3 neste ukene (lørdag 18. desember blir siste forestilling før jul).
URL:https://solbukta.no/arrangement/jul-i-bukta-5-16-des/
LOCATION:Solbukta\, Solbuktaveien 33\, Gresvik\, 1621\, Norge
CATEGORIES:Konserter
ATTACH;FMTTYPE=image/jpeg:https://solbukta.no/wp-content/uploads/2021/03/Jul-i-bukta-5-bilde-bredde-1.jpg
ORGANIZER;CN="Solbukta":MAILTO:booking@solbukta.no
END:VEVENT
BEGIN:VEVENT
DTSTART;TZID=Europe/Oslo:20211217T183000
DTEND;TZID=Europe/Oslo:20211217T220000
DTSTAMP:20260423T102342
CREATED:20210825T090705Z
LAST-MODIFIED:20211111T225457Z
UID:5975-1639765800-1639778400@solbukta.no
SUMMARY:"Jul i bukta 5" (17. des)
DESCRIPTION:For 5. året på rad kan du oppleve JUL I BUKTA: det alkoholfrie alternativet! 2020 og pandemi-restriksjoner gjorde ting vanskelig\, men vi klarte å gjennomføre 16 juleshow på Solbukta og heldigvis uten noe som helst smitteutbrudd.\nVi fikk veldig skryt for våre smittevern-tiltak\, og disse videreføres kommende jul\, i den grad det vil være nødvendig. Om restriksjonene skulle være helt borte\, vil Solbukta uansett fortsette å ha fokus på god håndhygiene og vi vil ikke fylle opp salen «til randen» slik vi gjorde i 2018 og 2019. Vi vil holde antall gjester pr kveld nede på et forsvarlig nivå.\nVELKOMMEN TIL JUL I BUKTA! \nAv erfaring kan det være lurt å bestille i god tid. Spilleplanen vår blir: premiere torsdag 25. november\, så spiller vi onsdag\, torsdag\, fredag og lørdager de 3 neste ukene (lørdag 18. desember blir siste forestilling før jul).
URL:https://solbukta.no/arrangement/jul-i-bukta-5-17-des/
LOCATION:Solbukta\, Solbuktaveien 33\, Gresvik\, 1621\, Norge
CATEGORIES:Konserter
ATTACH;FMTTYPE=image/jpeg:https://solbukta.no/wp-content/uploads/2021/03/Jul-i-bukta-5-bilde-bredde-1.jpg
ORGANIZER;CN="Solbukta":MAILTO:booking@solbukta.no
END:VEVENT
END:VCALENDAR