BEGIN:VCALENDAR
VERSION:2.0
PRODID:-//Solbukta - ECPv6.15.20//NONSGML v1.0//EN
CALSCALE:GREGORIAN
METHOD:PUBLISH
X-ORIGINAL-URL:https://solbukta.no
X-WR-CALDESC:Arrangement for Solbukta
REFRESH-INTERVAL;VALUE=DURATION:PT1H
X-Robots-Tag:noindex
X-PUBLISHED-TTL:PT1H
BEGIN:VTIMEZONE
TZID:Europe/Oslo
BEGIN:DAYLIGHT
TZOFFSETFROM:+0100
TZOFFSETTO:+0200
TZNAME:CEST
DTSTART:20200329T010000
END:DAYLIGHT
BEGIN:STANDARD
TZOFFSETFROM:+0200
TZOFFSETTO:+0100
TZNAME:CET
DTSTART:20201025T010000
END:STANDARD
BEGIN:DAYLIGHT
TZOFFSETFROM:+0100
TZOFFSETTO:+0200
TZNAME:CEST
DTSTART:20210328T010000
END:DAYLIGHT
BEGIN:STANDARD
TZOFFSETFROM:+0200
TZOFFSETTO:+0100
TZNAME:CET
DTSTART:20211031T010000
END:STANDARD
BEGIN:DAYLIGHT
TZOFFSETFROM:+0100
TZOFFSETTO:+0200
TZNAME:CEST
DTSTART:20220327T010000
END:DAYLIGHT
BEGIN:STANDARD
TZOFFSETFROM:+0200
TZOFFSETTO:+0100
TZNAME:CET
DTSTART:20221030T010000
END:STANDARD
END:VTIMEZONE
BEGIN:VEVENT
DTSTART;TZID=Europe/Oslo:20211004T180000
DTEND;TZID=Europe/Oslo:20211004T210000
DTSTAMP:20260423T125503
CREATED:20210812T124453Z
LAST-MODIFIED:20210922T150307Z
UID:5927-1633370400-1633381200@solbukta.no
SUMMARY:Inn i bibelen - ut i livet (bibelundervisning)
DESCRIPTION:Endelig er det mulig å invitere til BIBELKVELDER på Solbukta igjen etter avlysinger pga Korona epidemien. Vi ser fram til tidligere og nye deltakere som ønsker felleskap om god bibelundervisning.\nVi starter kvelden med enkel kveldsmat kl 18:00. Undervisningen starter kl 19:00 og er ferdig kl 20:30.\nKursavgift kr 100. (Mat inngår i kursavgiften.)\nPåmelding til Solbukta via epost: post@solbukta.no. Du betaler ved ankomst.\nMandag 4. okt 2021\nEr Bibelen troverdig?\nAase Victoria Wangen\, bachelor i teologi og ledelse og redaktør for nettmagasinet «iTRO»
URL:https://solbukta.no/arrangement/inn-i-bibelen-ut-i-livet-bibelundervisning/
LOCATION:Solbukta\, Solbuktaveien 33\, Gresvik\, 1621\, Norge
CATEGORIES:Fellesskap
ATTACH;FMTTYPE=image/jpeg:https://solbukta.no/wp-content/uploads/2020/11/Aase-Victoria-Wangen-002.jpg
ORGANIZER;CN="Solbukta":MAILTO:booking@solbukta.no
END:VEVENT
BEGIN:VEVENT
DTSTART;TZID=Europe/Oslo:20211007T110000
DTEND;TZID=Europe/Oslo:20211007T153000
DTSTAMP:20260423T125503
CREATED:20210720T225322Z
LAST-MODIFIED:20211004T121424Z
UID:5396-1633604400-1633620600@solbukta.no
SUMMARY:Salmer til Lunsj: UTSOLGT!
DESCRIPTION:Støttegruppa på Solbukta arrangerer en egen dag for fellesskap/sosialt\, god mat og kulturelle opplevelser! \nTorsdag 7. oktober (dagtid) arrangeres Støttegruppas dag 2021 med en utsøkt lunsjbuffet\, etterfulgt av salmekonsert med Renate og Morten Gjerløw Larsen. \nArrangementet starter kl 11.00. Lunsj fra 12.00 og konsert ca 13.30. Arrangementer er ferdig senest 16.00. \nOBS: Pga beregning av mat og korona-tilpasninger\, så må alle forhåndspåmelde seg til dette arrangementet. Det vil ikke være mulig å «møte i døra» uten å ha bestilt på forhånd. \nPris: kr 350\,- pr person. Dette er inkludert både konserten og lunsjbuffeten med dessert og kaffe! \nBESTILLING: se nedenfor her. Der finner du et innrammet felt med overskrift «Billetter». Der må du først velge ANTALL ved å trykke på + tegnet til høyre i rammen\, for så å kunne klikke deg videre på den .blå  knappen) \nHar du spørsmål: ring 69331168. \n 
URL:https://solbukta.no/arrangement/salmer-til-lunsj-stottegruppas-dag/
LOCATION:Solbukta\, Solbuktaveien 33\, Gresvik\, 1621\, Norge
CATEGORIES:Konserter
ATTACH;FMTTYPE=image/jpeg:https://solbukta.no/wp-content/uploads/2020/08/Salmer-til-lunsj-hoyde-A3-e1626821552538.jpg
END:VEVENT
BEGIN:VEVENT
DTSTART;TZID=Europe/Oslo:20211016T090000
DTEND;TZID=Europe/Oslo:20211016T150000
DTSTAMP:20260423T125503
CREATED:20210922T150207Z
LAST-MODIFIED:20210922T150208Z
UID:6341-1634374800-1634396400@solbukta.no
SUMMARY:Dugnad!
DESCRIPTION:Vi vil gjerne ha din hjelp på dugnad! Meld din ankomst til oystein.olimb@olimb.no eller ring Solbukta: 69331168! (Vi vil gjerne ha påmelding slik at vi vet hvor mange vi skal lage mat til! 🙂
URL:https://solbukta.no/arrangement/dugnad/
LOCATION:Solbukta\, Solbuktaveien 33\, Gresvik\, 1621\, Norge
CATEGORIES:Fellesskap
ATTACH;FMTTYPE=image/jpeg:https://solbukta.no/wp-content/uploads/2020/11/DSC_7366-–-Kopi.jpg
END:VEVENT
BEGIN:VEVENT
DTSTART;TZID=Europe/Oslo:20211017T163000
DTEND;TZID=Europe/Oslo:20211017T183000
DTSTAMP:20260423T125503
CREATED:20210812T221013Z
LAST-MODIFIED:20210812T221013Z
UID:5945-1634488200-1634495400@solbukta.no
SUMMARY:iFellesskap: søndagsmøte
DESCRIPTION:
URL:https://solbukta.no/arrangement/ifellesskap-sondagsmote-3/
LOCATION:Solbukta\, Solbuktaveien 33\, Gresvik\, 1621\, Norge
CATEGORIES:Fellesskap
END:VEVENT
BEGIN:VEVENT
DTSTART;TZID=Europe/Oslo:20211023T120000
DTEND;TZID=Europe/Oslo:20211024T140000
DTSTAMP:20260423T125503
CREATED:20210812T132631Z
LAST-MODIFIED:20210901T222540Z
UID:5929-1634990400-1635084000@solbukta.no
SUMMARY:BBB Leir!
DESCRIPTION:23.-24. oktober (helgen i uke 42) er det klart for BBB leir! Det er enda viktigere enn før med forhåndspåmelding i god tid. Så hvis du tror du skal på BBB leir; meld deg på i god tid! (Det går an å melde seg av igjen\, dersom noe kommer i veien) 🙂 \nPåmeldingen har nå åpnet! For å melde deg på\, klikk under! \nBBB-leir: Høst – Norsk Luthersk Misjonssamband (nlm.no) \n 
URL:https://solbukta.no/arrangement/bbb-leir/
LOCATION:Solbukta\, Solbuktaveien 33\, Gresvik\, 1621\, Norge
CATEGORIES:Leir
ATTACH;FMTTYPE=image/jpeg:https://solbukta.no/wp-content/uploads/2020/09/besteforeldre-3-–-Kopi.jpg
END:VEVENT
BEGIN:VEVENT
DTSTART;TZID=Europe/Oslo:20211029T190000
DTEND;TZID=Europe/Oslo:20211031T140000
DTSTAMP:20260423T125503
CREATED:20211014T131734Z
LAST-MODIFIED:20211014T131734Z
UID:7132-1635534000-1635688800@solbukta.no
SUMMARY:GAMING-LEIR 12-15 år
DESCRIPTION:Påmelding: \nGamingleir Solbukta – Norsk Luthersk Misjonssamband (nlm.no) \n \n 
URL:https://solbukta.no/arrangement/gaming-leir-12-15-ar/
LOCATION:Solbukta\, Solbuktaveien 33\, Gresvik\, 1621\, Norge
CATEGORIES:Leir
END:VEVENT
END:VCALENDAR