BEGIN:VCALENDAR
VERSION:2.0
PRODID:-//Solbukta - ECPv6.15.20//NONSGML v1.0//EN
CALSCALE:GREGORIAN
METHOD:PUBLISH
X-WR-CALNAME:Solbukta
X-ORIGINAL-URL:https://solbukta.no
X-WR-CALDESC:Arrangement for Solbukta
REFRESH-INTERVAL;VALUE=DURATION:PT1H
X-Robots-Tag:noindex
X-PUBLISHED-TTL:PT1H
BEGIN:VTIMEZONE
TZID:Europe/Oslo
BEGIN:DAYLIGHT
TZOFFSETFROM:+0100
TZOFFSETTO:+0200
TZNAME:CEST
DTSTART:20200329T010000
END:DAYLIGHT
BEGIN:STANDARD
TZOFFSETFROM:+0200
TZOFFSETTO:+0100
TZNAME:CET
DTSTART:20201025T010000
END:STANDARD
BEGIN:DAYLIGHT
TZOFFSETFROM:+0100
TZOFFSETTO:+0200
TZNAME:CEST
DTSTART:20210328T010000
END:DAYLIGHT
BEGIN:STANDARD
TZOFFSETFROM:+0200
TZOFFSETTO:+0100
TZNAME:CET
DTSTART:20211031T010000
END:STANDARD
BEGIN:DAYLIGHT
TZOFFSETFROM:+0100
TZOFFSETTO:+0200
TZNAME:CEST
DTSTART:20220327T010000
END:DAYLIGHT
BEGIN:STANDARD
TZOFFSETFROM:+0200
TZOFFSETTO:+0100
TZNAME:CET
DTSTART:20221030T010000
END:STANDARD
END:VTIMEZONE
BEGIN:VEVENT
DTSTART;TZID=Europe/Oslo:20210806T160000
DTEND;TZID=Europe/Oslo:20210808T180000
DTSTAMP:20260423T152346
CREATED:20210524T181807Z
LAST-MODIFIED:20210615T224207Z
UID:5067-1628265600-1628445600@solbukta.no
SUMMARY:SolbuktaFestivalen & Stevnet
DESCRIPTION:Velkommen til årets festival og stevne på Solbukta! \nIfjor ble det en noe avstumpet versjon av festivalen. Det var på det meste ca 100 mennesker på konsert\, selv om vi hadde lov til å ha 200 pr konsert. I år håper vi det blir mer «vanlig» tilstander\, og de fleste av våre publikummere til festivalen er jo folk som innen 1. august har fått vaksine! VI håper dere alle kommer tilbake til festivalen og Stevnet i år! \nPROGRAM: \nSolbuktaFestivalen og Stevnet (6.-8. august 2021) \nFredag 6.8. \nKonsert kl 19.00: Renate Gjerløw Larsen\, Trond Gilberg og Anina Radotina (Inng. Kr 250) Bestilling\, klikk HER! \nLørdag 7.8. \nKonsert kl 16.00: Sveinung Hølmebakk (Inng. Kr 250\,-) Bestilling\, klikk HER! \nKonsert kl 19.00: GARNESS (inng. Kr 250\,-) Bestilling\, klikk HER! \nSøndag 8.8. \nkl 12.00: Utendørs søndagsmøte på plenen med lovsang. Taler: Kåre Johan Lid (gratis inng) \nkl 15.00: Allsangkonsert med Solkoret\, Renate og Morten Gjerløw Larsen (inng. Kr 200\,-) Bestilling\, klikk HER!
URL:https://solbukta.no/arrangement/solbuktafestivalen-stevnet/
LOCATION:Solbukta\, Solbuktaveien 33\, Gresvik\, 1621\, Norge
CATEGORIES:Fellesskap,Konserter
ATTACH;FMTTYPE=image/jpeg:https://solbukta.no/wp-content/uploads/2021/06/Solbuktafestivalen-2021-nettbilde.jpg
END:VEVENT
BEGIN:VEVENT
DTSTART;TZID=Europe/Oslo:20210806T190000
DTEND;TZID=Europe/Oslo:20210806T203000
DTSTAMP:20260423T152346
CREATED:20210615T213914Z
LAST-MODIFIED:20210615T213914Z
UID:5115-1628276400-1628281800@solbukta.no
SUMMARY:Festivalkonsert: Renate Gjerløw Larsen m.fl.
DESCRIPTION:Årets SolbuktaFestival starter fredag 6. august! Grillkroa\, kiosk og andre fasiliteter er åpent for publikum fra kl 16.00. Konsert kl 19.00 med Renate Gjerløw Larsen\, Anina Radotina og Trond Gilberg! Dette er 3.dje året Renate og Anina har konsert på SolbuktaFestivalen\, rett og slett fordi svært mange har «bestilt» dette om igjen. Selvsagt er det helt ny konsert hver gang\,- og i år har de fått med seg Trond Gilberg på piano. Trond GIlberg er til daglig kantor i Glemmen Kirke i Fredrikstad. \nFor å se årets program\, klikk HER! \n 
URL:https://solbukta.no/arrangement/festivalkonsert-renate-gjerlow-larsen-m-fl/
LOCATION:Solbukta\, Solbuktaveien 33\, Gresvik\, 1621\, Norge
CATEGORIES:Festival,Konserter
ORGANIZER;CN="Solbukta":MAILTO:booking@solbukta.no
END:VEVENT
BEGIN:VEVENT
DTSTART;TZID=Europe/Oslo:20210807T160000
DTEND;TZID=Europe/Oslo:20210807T173000
DTSTAMP:20260423T152346
CREATED:20210615T220746Z
LAST-MODIFIED:20210615T222136Z
UID:5121-1628352000-1628357400@solbukta.no
SUMMARY:Festivalkonsert: Sveinung Hølmebakk
DESCRIPTION:Sveinung Hølmebakk var hos oss for 2 år siden\, sammen med sine to kollegaer i «Nordic Tenors». I år kommer han til oss med sin solokonsert og fokuset er mer rettet mot salmer og andre kristne sanger. Vi gleder oss veldig til Sveinung kommer tilbake til SolbuktaFestivalen! Husk å bestille billett på forhånd. Vi selger foreløpig kun 200 billetter pga restriksjoner. \nFor å se festivalprogram\, klikk HER!
URL:https://solbukta.no/arrangement/festivalkonsert-sveinung-holmebakk/
LOCATION:Solbukta\, Solbuktaveien 33\, Gresvik\, 1621\, Norge
ATTACH;FMTTYPE=image/jpeg:https://solbukta.no/wp-content/uploads/2021/06/Sveinung-Holmebakk-scaled.jpg
ORGANIZER;CN="Solbukta":MAILTO:booking@solbukta.no
END:VEVENT
BEGIN:VEVENT
DTSTART;TZID=Europe/Oslo:20210807T190000
DTEND;TZID=Europe/Oslo:20210807T203000
DTSTAMP:20260423T152346
CREATED:20210615T221917Z
LAST-MODIFIED:20210615T224111Z
UID:5125-1628362800-1628368200@solbukta.no
SUMMARY:Festivalkonsert: GARNESS
DESCRIPTION:Duoen Garness består av tvillingsøstrene og multiinstrumentalistene Hildegunn Garnes Reigstad og Ingelin Reigstad Norheim. Deres musikalske særpreg er basert på det unike vokale samspillet som på mange måter reflekterer jentenes tvillingforhold. Gjennom tekstene de skriver\, ønsker søstrene å formidle hva de tenker om mange av livets utfordringer og gleder\, tro og tvil\, og dele følelser og erfaringer som de håper lytteren også kan kjenne seg igjen i.\nMed seg til Solbukta har de Hildegunns ektemann Torjus Vierli (og Ingelins svoger) som tryller frem de lekreste toner og groover på ulike tangentinstrumenter\, i tillegg til å være en habil korist. På programmet for konserten står både sanger fra deres to engelskspråklige plater\, men også sanger på norsk som jentene har skrevet sammen med tekstforfattere som deres bestemor Haldis Reigstad og Jostein Ørum (Gåten om korset). Duoen er også veldig glad i å tolke utvalgte favoritter blant salmer og bedehussanger\, så ikke se bort fra at det vil komme en og annen kjent salme i ny drakt. Jentene skriver også ny musikk om dagen\, og kanskje kommer det en liten smaksprøve på noe av det de pusler med. Garness ble for alvor introdusert for det norske folk da de holdt julekonsert på NRK1 lille\njulaften. Deres kritikerroste album Barnet i krybben er blitt en julefavoritt for mange.
URL:https://solbukta.no/arrangement/festivalkonsert-garness/
LOCATION:Solbukta\, Solbuktaveien 33\, Gresvik\, 1621\, Norge
CATEGORIES:Festival,Konserter
ATTACH;FMTTYPE=image/jpeg:https://solbukta.no/wp-content/uploads/2021/05/Garness-bilde-1-scaled.jpg
ORGANIZER;CN="Solbukta":MAILTO:booking@solbukta.no
END:VEVENT
BEGIN:VEVENT
DTSTART;TZID=Europe/Oslo:20210808T150000
DTEND;TZID=Europe/Oslo:20210808T170000
DTSTAMP:20260423T152346
CREATED:20210615T222817Z
LAST-MODIFIED:20210615T223441Z
UID:5128-1628434800-1628442000@solbukta.no
SUMMARY:Festivalkonsert: ALLSANG i Bukta m/Solkoret\, Renate & Morten
DESCRIPTION:Solkoret er Solbuktas eget blanda kor! Her finner man mange av de trofaste folka som har drevet Solbukta fremover i over 40 år! Solkoret ble startet for ca 5 år siden av Grete Bjerketvedt. Koret har fått med seg Renate Gjerløw Larsen som dirigent. Etter Stevnet og teltmøtet kl 12.00-14.00 søndag 8. august\, inviterer vi til ALLSANG-KONSERT hvor Solkoret leder an\, sammen med dirigent Renate\, og Morten Gjerløw Larsen er også med som vertskap og solist. Du får nok også høre noen smektende duetter med ekteparet Gjerløw Larsen denne ettermiddagen! Bestill billett på forhånd! VI har begrenset antall plasser pga restriksjoner.
URL:https://solbukta.no/arrangement/festivalkonsert-allsang-i-bukta-m-solkoret-renate-morten/
LOCATION:Solbukta\, Solbuktaveien 33\, Gresvik\, 1621\, Norge
CATEGORIES:Festival,Konserter
ATTACH;FMTTYPE=image/jpeg:https://solbukta.no/wp-content/uploads/2021/06/Solbuktafestivalen-2021-nettbilde.jpg
ORGANIZER;CN="Solbukta":MAILTO:booking@solbukta.no
END:VEVENT
BEGIN:VEVENT
DTSTART;TZID=Europe/Oslo:20210816T180000
DTEND;TZID=Europe/Oslo:20210819T130000
DTSTAMP:20260423T152346
CREATED:20210623T184335Z
LAST-MODIFIED:20210812T124537Z
UID:5178-1629136800-1629378000@solbukta.no
SUMMARY:SENIORLEIR: AVLYST!
DESCRIPTION:Dessverre er seniorleiren avlyst pga alt for få påmeldte…..Kontakt Norsk Luthersk Misjonssamband\, om du har betalt og skal ha tilbake penger.
URL:https://solbukta.no/arrangement/seniorleir/
LOCATION:Solbukta\, Solbuktaveien 33\, Gresvik\, 1621\, Norge
CATEGORIES:Seniorleir
ATTACH;FMTTYPE=image/jpeg:https://solbukta.no/wp-content/uploads/2021/06/Seniorleir-bilde.jpg
END:VEVENT
BEGIN:VEVENT
DTSTART;TZID=Europe/Oslo:20210820T180000
DTEND;TZID=Europe/Oslo:20210820T210000
DTSTAMP:20260423T152346
CREATED:20210812T214133Z
LAST-MODIFIED:20210815T190959Z
UID:5933-1629482400-1629493200@solbukta.no
SUMMARY:Frivillighetsfesten (påmelding)
DESCRIPTION:Solbukta har ikke et vanlig «årsmøte» eller generalforsamling. Men allikevel ønsker både styret og daglig leder å kunne samle alle som ønsker å være endel av Solbukta\, til en uformell sammenkomst en gang i året. Dette kaller vi «Frivillighetsfesten». Normalt skal dette være en fredagskveld i starten av året. Pga koronaen ble det i år utsatt (flere ganger). Nå forsøker vi å holde fast ved at arrangementet blir FREDAG 20. AUGUST. \nDette er en kveld du må melde deg på til. Når det er gjort er du invitert til gratis middag på Solbukta\, etterfulgt av et møte hvor styret og daglig leder ønsker å informere\, samt at de håper du som engasjert medspiller vil stille noen spørsmål også. \nDette er altså et gratis arrangement\, hvor du også får gratis mat og drikke. Men du må melde deg på slik at vi kan beregne mengde mat:) Pr 10.8.21 må vi sette tak på 60 deltakere\, så meld deg på asap ved å sende en mail til: \nmorten@solbukta.no \n 
URL:https://solbukta.no/arrangement/frivillighetsfesten-pamelding/
LOCATION:Solbukta\, Solbuktaveien 33\, Gresvik\, 1621\, Norge
CATEGORIES:Fellesskap
ATTACH;FMTTYPE=image/png:https://solbukta.no/wp-content/uploads/2021/08/Middag-tegning-1.png
ORGANIZER;CN="Solbukta":MAILTO:booking@solbukta.no
END:VEVENT
BEGIN:VEVENT
DTSTART;TZID=Europe/Oslo:20210822T163000
DTEND;TZID=Europe/Oslo:20210822T183000
DTSTAMP:20260423T152346
CREATED:20210812T220754Z
LAST-MODIFIED:20210812T220754Z
UID:5939-1629649800-1629657000@solbukta.no
SUMMARY:iFellesskap: søndagsmøte
DESCRIPTION:
URL:https://solbukta.no/arrangement/ifellesskap-sondagsmote/
LOCATION:Solbukta\, Solbuktaveien 33\, Gresvik\, 1621\, Norge
END:VEVENT
END:VCALENDAR