BEGIN:VCALENDAR
VERSION:2.0
PRODID:-//Solbukta - ECPv6.15.20//NONSGML v1.0//EN
CALSCALE:GREGORIAN
METHOD:PUBLISH
X-ORIGINAL-URL:https://solbukta.no
X-WR-CALDESC:Arrangement for Solbukta
REFRESH-INTERVAL;VALUE=DURATION:PT1H
X-Robots-Tag:noindex
X-PUBLISHED-TTL:PT1H
BEGIN:VTIMEZONE
TZID:Europe/Oslo
BEGIN:DAYLIGHT
TZOFFSETFROM:+0100
TZOFFSETTO:+0200
TZNAME:CEST
DTSTART:20220327T010000
END:DAYLIGHT
BEGIN:STANDARD
TZOFFSETFROM:+0200
TZOFFSETTO:+0100
TZNAME:CET
DTSTART:20221030T010000
END:STANDARD
BEGIN:DAYLIGHT
TZOFFSETFROM:+0100
TZOFFSETTO:+0200
TZNAME:CEST
DTSTART:20230326T010000
END:DAYLIGHT
BEGIN:STANDARD
TZOFFSETFROM:+0200
TZOFFSETTO:+0100
TZNAME:CET
DTSTART:20231029T010000
END:STANDARD
BEGIN:DAYLIGHT
TZOFFSETFROM:+0100
TZOFFSETTO:+0200
TZNAME:CEST
DTSTART:20240331T010000
END:DAYLIGHT
BEGIN:STANDARD
TZOFFSETFROM:+0200
TZOFFSETTO:+0100
TZNAME:CET
DTSTART:20241027T010000
END:STANDARD
END:VTIMEZONE
BEGIN:VEVENT
DTSTART;VALUE=DATE:20230804
DTEND;VALUE=DATE:20230805
DTSTAMP:20260424T115801
CREATED:20230325T221750Z
LAST-MODIFIED:20230701T130402Z
UID:14193-1691107200-1691193599@solbukta.no
SUMMARY:Festivalpass Solbuktafestivalen (alle konserter)
DESCRIPTION:Her kan du bestille FESTIVALPASS (alle konserter i èn billett) Kr 1200\,- (Spar 300 kr.!) \nKlikk nedenfor\, i innrammingen som har overskrift «Billetter» for å enkelt bestille! \nVil du ha overnatting?  \nDu bør ikke bestille/betale for dèt før ankomstdagen\, men gi oss beskjed allerede nå (skriv i kommentarfeltet i bestillingen din: (f.eks) «vi er 2 stk som har kjøpt festivalpass og som ønsker ett dobbeltrom med frokost fra fredag til søndag»).  \n 
URL:https://solbukta.no/arrangement/festivalpass-solbuktafestivalen-bestill-her/
LOCATION:Solbukta\, Solbuktaveien 33\, Gresvik\, 1621\, Norge
CATEGORIES:ALkoholfritt,Festival,Konsert,Konserter,Sommerfestival
ATTACH;FMTTYPE=image/jpeg:https://solbukta.no/wp-content/uploads/2023/03/Solbuktafestivalen-2023-plakat-alternativ3.jpg
ORGANIZER;CN="Solbukta":MAILTO:booking@solbukta.no
END:VEVENT
BEGIN:VEVENT
DTSTART;TZID=Europe/Oslo:20230804T180000
DTEND;TZID=Europe/Oslo:20230804T191500
DTSTAMP:20260424T115801
CREATED:20230325T223803Z
LAST-MODIFIED:20230404T180616Z
UID:14206-1691172000-1691176500@solbukta.no
SUMMARY:KONSERT: "Kärleken & Livet" m/ Cathrine & Renate
DESCRIPTION:Dette er en konsert som Solbukta har bestilt av de to sangerinnene Cathrine Iversen og Renate Gjerløw Larsen. De har gjort mange konsepter\, -og har en lang scene-reise sammen\, med alt fra torsdagskoret i Glemmen Kirke til Melodi Grand Prix\, Lyden av Lørdag og Beat for Beat (Nrk). \nRenate spilte i «Les Miserables» da den ble løftet opp som fullskala musikal på Folketeatret i Oslo i 2017 – 2018. Hun er også kjent for veldig mye annet\, bl.a. oppsetninger på Blå Grotte og City Scene\, samt alle sine konsertkonsepter sammen med ektemannen. Her på Solbukta har Renate vært med på flere suksesser som bl.a. «Elvis til Lunsj» og ikke minst «Jul i Bukta». \nCathrine Iversen er solist i Secret Garden og har blitt en kjent og kjær sangerinne så vel i Asia som Europa og Norge. Cathrine har mange konserter rundt omkring iløpet av året\, som f.eks sine Julekonserter\, påskekonserter og mye annet. Cathrine kombinerer artistyrket med sykepleieryrket og jobber på Kalnes når hun ikke står på en eller annen scene rundt omkring i verden:) \nVi gleder oss enormt til disse to skal åpne Solbuktafestivalen 2023 med sommerkonserten «Kärleken & Livet»!
URL:https://solbukta.no/arrangement/karleken-livet-m-cathrine-renate/
LOCATION:Solbukta\, Solbuktaveien 33\, Gresvik\, 1621\, Norge
CATEGORIES:ALkoholfritt,Festival,Konsert,Konserter
ATTACH;FMTTYPE=image/jpeg:https://solbukta.no/wp-content/uploads/2023/03/Renate-og-Cathrine.jpg
ORGANIZER;CN="Solbukta":MAILTO:booking@solbukta.no
END:VEVENT
END:VCALENDAR