BEGIN:VCALENDAR
VERSION:2.0
PRODID:-//Solbukta - ECPv6.15.20//NONSGML v1.0//EN
CALSCALE:GREGORIAN
METHOD:PUBLISH
X-WR-CALNAME:Solbukta
X-ORIGINAL-URL:https://solbukta.no
X-WR-CALDESC:Arrangement for Solbukta
REFRESH-INTERVAL;VALUE=DURATION:PT1H
X-Robots-Tag:noindex
X-PUBLISHED-TTL:PT1H
BEGIN:VTIMEZONE
TZID:Europe/Oslo
BEGIN:DAYLIGHT
TZOFFSETFROM:+0100
TZOFFSETTO:+0200
TZNAME:CEST
DTSTART:20210328T010000
END:DAYLIGHT
BEGIN:STANDARD
TZOFFSETFROM:+0200
TZOFFSETTO:+0100
TZNAME:CET
DTSTART:20211031T010000
END:STANDARD
BEGIN:DAYLIGHT
TZOFFSETFROM:+0100
TZOFFSETTO:+0200
TZNAME:CEST
DTSTART:20220327T010000
END:DAYLIGHT
BEGIN:STANDARD
TZOFFSETFROM:+0200
TZOFFSETTO:+0100
TZNAME:CET
DTSTART:20221030T010000
END:STANDARD
BEGIN:DAYLIGHT
TZOFFSETFROM:+0100
TZOFFSETTO:+0200
TZNAME:CEST
DTSTART:20230326T010000
END:DAYLIGHT
BEGIN:STANDARD
TZOFFSETFROM:+0200
TZOFFSETTO:+0100
TZNAME:CET
DTSTART:20231029T010000
END:STANDARD
END:VTIMEZONE
BEGIN:VEVENT
DTSTART;TZID=Europe/Oslo:20220122T120000
DTEND;TZID=Europe/Oslo:20220123T140000
DTSTAMP:20260423T102230
CREATED:20210211T134955Z
LAST-MODIFIED:20210623T185502Z
UID:4245-1642852800-1642946400@solbukta.no
SUMMARY:Gubbeleir: 22.-23. januar
DESCRIPTION:Gubbeleiren har blitt flyttet på flere ganger pga koronaen. Vi endte til slutt med å flytte leiren til januar 2022\, der Gubbeleiren opprinnelig hører til. Alle som har booket og kjøpt plass til Gubbeleiren som skulle vært i år (2021) har blitt flyttet til 22.-23. januar 2022. Alle disse har også fått tilbud pr epost\, om å få refundert pengene. \nVi ønsker alle hjertelig velkommen til GUBBELEIR i januar 2022\, og vi kommer tilbake med mer detaljer til høsten! 🙂
URL:https://solbukta.no/arrangement/velkommen-til-gubbeleir/
LOCATION:Solbukta\, Solbuktaveien 33\, Gresvik\, 1621\, Norge
CATEGORIES:For menn
ATTACH;FMTTYPE=image/png:https://solbukta.no/wp-content/uploads/2021/01/2021-02-11-1.png
ORGANIZER;CN="Solbukta":MAILTO:booking@solbukta.no
END:VEVENT
END:VCALENDAR