BEGIN:VCALENDAR
VERSION:2.0
PRODID:-//Solbukta - ECPv6.15.20//NONSGML v1.0//EN
CALSCALE:GREGORIAN
METHOD:PUBLISH
X-WR-CALNAME:Solbukta
X-ORIGINAL-URL:https://solbukta.no
X-WR-CALDESC:Arrangement for Solbukta
REFRESH-INTERVAL;VALUE=DURATION:PT1H
X-Robots-Tag:noindex
X-PUBLISHED-TTL:PT1H
BEGIN:VTIMEZONE
TZID:Europe/Oslo
BEGIN:DAYLIGHT
TZOFFSETFROM:+0100
TZOFFSETTO:+0200
TZNAME:CEST
DTSTART:20210328T010000
END:DAYLIGHT
BEGIN:STANDARD
TZOFFSETFROM:+0200
TZOFFSETTO:+0100
TZNAME:CET
DTSTART:20211031T010000
END:STANDARD
BEGIN:DAYLIGHT
TZOFFSETFROM:+0100
TZOFFSETTO:+0200
TZNAME:CEST
DTSTART:20220327T010000
END:DAYLIGHT
BEGIN:STANDARD
TZOFFSETFROM:+0200
TZOFFSETTO:+0100
TZNAME:CET
DTSTART:20221030T010000
END:STANDARD
BEGIN:DAYLIGHT
TZOFFSETFROM:+0100
TZOFFSETTO:+0200
TZNAME:CEST
DTSTART:20230326T010000
END:DAYLIGHT
BEGIN:STANDARD
TZOFFSETFROM:+0200
TZOFFSETTO:+0100
TZNAME:CET
DTSTART:20231029T010000
END:STANDARD
END:VTIMEZONE
BEGIN:VEVENT
DTSTART;TZID=Europe/Oslo:20220121T180000
DTEND;TZID=Europe/Oslo:20220121T210000
DTSTAMP:20260423T102147
CREATED:20210916T152730Z
LAST-MODIFIED:20220117T120920Z
UID:6280-1642788000-1642798800@solbukta.no
SUMMARY:Frivillighetsfesten 2022
DESCRIPTION:Vi håper ALLE som føler at de er endel av Solbukta\, melder seg på og deltar på denne kvelden. Det blir servert gratis middag og avholder samtidig et lite informasjonsmøte om styrets fremtidsplaner etc\,- og vi åpner for spørsmålsrunde. Solbukta har ingen «generalforsamling». Derfor håper vi at dette skal være et arrangement hvor vi samler alle Solbuktavenner til sosialt samvær! \nOBS: det er kun forhåndspåmelding (vi må vite hvor mange vi skal servere mat til). Send epost for påmelding til: post@solbukta.no \n 
URL:https://solbukta.no/arrangement/frivillighetsfesten-2022/
LOCATION:Solbukta\, Solbuktaveien 33\, Gresvik\, 1621\, Norge
CATEGORIES:Fellesskap
ATTACH;FMTTYPE=image/jpeg:https://solbukta.no/wp-content/uploads/2021/08/Frivillighetsfesten-2021-scaled.jpg
ORGANIZER;CN="Solbukta":MAILTO:booking@solbukta.no
END:VEVENT
END:VCALENDAR