BEGIN:VCALENDAR
VERSION:2.0
PRODID:-//Solbukta - ECPv6.15.20//NONSGML v1.0//EN
CALSCALE:GREGORIAN
METHOD:PUBLISH
X-ORIGINAL-URL:https://solbukta.no
X-WR-CALDESC:Arrangement for Solbukta
REFRESH-INTERVAL;VALUE=DURATION:PT1H
X-Robots-Tag:noindex
X-PUBLISHED-TTL:PT1H
BEGIN:VTIMEZONE
TZID:Europe/Oslo
BEGIN:DAYLIGHT
TZOFFSETFROM:+0100
TZOFFSETTO:+0200
TZNAME:CEST
DTSTART:20200329T010000
END:DAYLIGHT
BEGIN:STANDARD
TZOFFSETFROM:+0200
TZOFFSETTO:+0100
TZNAME:CET
DTSTART:20201025T010000
END:STANDARD
BEGIN:DAYLIGHT
TZOFFSETFROM:+0100
TZOFFSETTO:+0200
TZNAME:CEST
DTSTART:20210328T010000
END:DAYLIGHT
BEGIN:STANDARD
TZOFFSETFROM:+0200
TZOFFSETTO:+0100
TZNAME:CET
DTSTART:20211031T010000
END:STANDARD
BEGIN:DAYLIGHT
TZOFFSETFROM:+0100
TZOFFSETTO:+0200
TZNAME:CEST
DTSTART:20220327T010000
END:DAYLIGHT
BEGIN:STANDARD
TZOFFSETFROM:+0200
TZOFFSETTO:+0100
TZNAME:CET
DTSTART:20221030T010000
END:STANDARD
END:VTIMEZONE
BEGIN:VEVENT
DTSTART;TZID=Europe/Oslo:20211101T180000
DTEND;TZID=Europe/Oslo:20211101T210000
DTSTAMP:20260423T125408
CREATED:20210812T221309Z
LAST-MODIFIED:20210922T150339Z
UID:5950-1635789600-1635800400@solbukta.no
SUMMARY:Inn i bibelen - ut i livet (bibelundervisning)
DESCRIPTION:Mandag 1. nov 2021:\nIsrael og landløftene\nSvein Granerud\, teolog\, bibellærer\, leder for Normisjon i Norge 2001 til 2016. For tiden er han Landstyreleder i Israelsmisjon.\nSvein Granerud vil ta for seg utfordringene med «Israel – løftene om et land for Guds folk» og «Staten Israel».
URL:https://solbukta.no/arrangement/inn-i-bibelen-ut-i-livet-bibelundervisning-2/
LOCATION:Solbukta\, Solbuktaveien 33\, Gresvik\, 1621\, Norge
CATEGORIES:Fellesskap
ATTACH;FMTTYPE=image/jpeg:https://solbukta.no/wp-content/uploads/2021/08/Svein-Granerud.jpg
ORGANIZER;CN="Solbukta":MAILTO:booking@solbukta.no
END:VEVENT
END:VCALENDAR