BEGIN:VCALENDAR
VERSION:2.0
PRODID:-//Solbukta - ECPv6.15.20//NONSGML v1.0//EN
CALSCALE:GREGORIAN
METHOD:PUBLISH
X-ORIGINAL-URL:https://solbukta.no
X-WR-CALDESC:Arrangement for Solbukta
REFRESH-INTERVAL;VALUE=DURATION:PT1H
X-Robots-Tag:noindex
X-PUBLISHED-TTL:PT1H
BEGIN:VTIMEZONE
TZID:Europe/Oslo
BEGIN:DAYLIGHT
TZOFFSETFROM:+0100
TZOFFSETTO:+0200
TZNAME:CEST
DTSTART:20200329T010000
END:DAYLIGHT
BEGIN:STANDARD
TZOFFSETFROM:+0200
TZOFFSETTO:+0100
TZNAME:CET
DTSTART:20201025T010000
END:STANDARD
BEGIN:DAYLIGHT
TZOFFSETFROM:+0100
TZOFFSETTO:+0200
TZNAME:CEST
DTSTART:20210328T010000
END:DAYLIGHT
BEGIN:STANDARD
TZOFFSETFROM:+0200
TZOFFSETTO:+0100
TZNAME:CET
DTSTART:20211031T010000
END:STANDARD
BEGIN:DAYLIGHT
TZOFFSETFROM:+0100
TZOFFSETTO:+0200
TZNAME:CEST
DTSTART:20220327T010000
END:DAYLIGHT
BEGIN:STANDARD
TZOFFSETFROM:+0200
TZOFFSETTO:+0100
TZNAME:CET
DTSTART:20221030T010000
END:STANDARD
END:VTIMEZONE
BEGIN:VEVENT
DTSTART;TZID=Europe/Oslo:20210820T180000
DTEND;TZID=Europe/Oslo:20210820T210000
DTSTAMP:20260423T165657
CREATED:20210812T214133Z
LAST-MODIFIED:20210815T190959Z
UID:5933-1629482400-1629493200@solbukta.no
SUMMARY:Frivillighetsfesten (påmelding)
DESCRIPTION:Solbukta har ikke et vanlig «årsmøte» eller generalforsamling. Men allikevel ønsker både styret og daglig leder å kunne samle alle som ønsker å være endel av Solbukta\, til en uformell sammenkomst en gang i året. Dette kaller vi «Frivillighetsfesten». Normalt skal dette være en fredagskveld i starten av året. Pga koronaen ble det i år utsatt (flere ganger). Nå forsøker vi å holde fast ved at arrangementet blir FREDAG 20. AUGUST. \nDette er en kveld du må melde deg på til. Når det er gjort er du invitert til gratis middag på Solbukta\, etterfulgt av et møte hvor styret og daglig leder ønsker å informere\, samt at de håper du som engasjert medspiller vil stille noen spørsmål også. \nDette er altså et gratis arrangement\, hvor du også får gratis mat og drikke. Men du må melde deg på slik at vi kan beregne mengde mat:) Pr 10.8.21 må vi sette tak på 60 deltakere\, så meld deg på asap ved å sende en mail til: \nmorten@solbukta.no \n 
URL:https://solbukta.no/arrangement/frivillighetsfesten-pamelding/
LOCATION:Solbukta\, Solbuktaveien 33\, Gresvik\, 1621\, Norge
CATEGORIES:Fellesskap
ATTACH;FMTTYPE=image/png:https://solbukta.no/wp-content/uploads/2021/08/Middag-tegning-1.png
ORGANIZER;CN="Solbukta":MAILTO:booking@solbukta.no
END:VEVENT
END:VCALENDAR