BEGIN:VCALENDAR
VERSION:2.0
PRODID:-//Solbukta - ECPv6.15.20//NONSGML v1.0//EN
CALSCALE:GREGORIAN
METHOD:PUBLISH
X-ORIGINAL-URL:https://solbukta.no
X-WR-CALDESC:Arrangement for Solbukta
REFRESH-INTERVAL;VALUE=DURATION:PT1H
X-Robots-Tag:noindex
X-PUBLISHED-TTL:PT1H
BEGIN:VTIMEZONE
TZID:Europe/Oslo
BEGIN:DAYLIGHT
TZOFFSETFROM:+0100
TZOFFSETTO:+0200
TZNAME:CEST
DTSTART:20200329T010000
END:DAYLIGHT
BEGIN:STANDARD
TZOFFSETFROM:+0200
TZOFFSETTO:+0100
TZNAME:CET
DTSTART:20201025T010000
END:STANDARD
BEGIN:DAYLIGHT
TZOFFSETFROM:+0100
TZOFFSETTO:+0200
TZNAME:CEST
DTSTART:20210328T010000
END:DAYLIGHT
BEGIN:STANDARD
TZOFFSETFROM:+0200
TZOFFSETTO:+0100
TZNAME:CET
DTSTART:20211031T010000
END:STANDARD
BEGIN:DAYLIGHT
TZOFFSETFROM:+0100
TZOFFSETTO:+0200
TZNAME:CEST
DTSTART:20220327T010000
END:DAYLIGHT
BEGIN:STANDARD
TZOFFSETFROM:+0200
TZOFFSETTO:+0100
TZNAME:CET
DTSTART:20221030T010000
END:STANDARD
END:VTIMEZONE
BEGIN:VEVENT
DTSTART;TZID=Europe/Oslo:20210806T160000
DTEND;TZID=Europe/Oslo:20210808T180000
DTSTAMP:20260423T165347
CREATED:20210524T181807Z
LAST-MODIFIED:20210615T224207Z
UID:5067-1628265600-1628445600@solbukta.no
SUMMARY:SolbuktaFestivalen & Stevnet
DESCRIPTION:Velkommen til årets festival og stevne på Solbukta! \nIfjor ble det en noe avstumpet versjon av festivalen. Det var på det meste ca 100 mennesker på konsert\, selv om vi hadde lov til å ha 200 pr konsert. I år håper vi det blir mer «vanlig» tilstander\, og de fleste av våre publikummere til festivalen er jo folk som innen 1. august har fått vaksine! VI håper dere alle kommer tilbake til festivalen og Stevnet i år! \nPROGRAM: \nSolbuktaFestivalen og Stevnet (6.-8. august 2021) \nFredag 6.8. \nKonsert kl 19.00: Renate Gjerløw Larsen\, Trond Gilberg og Anina Radotina (Inng. Kr 250) Bestilling\, klikk HER! \nLørdag 7.8. \nKonsert kl 16.00: Sveinung Hølmebakk (Inng. Kr 250\,-) Bestilling\, klikk HER! \nKonsert kl 19.00: GARNESS (inng. Kr 250\,-) Bestilling\, klikk HER! \nSøndag 8.8. \nkl 12.00: Utendørs søndagsmøte på plenen med lovsang. Taler: Kåre Johan Lid (gratis inng) \nkl 15.00: Allsangkonsert med Solkoret\, Renate og Morten Gjerløw Larsen (inng. Kr 200\,-) Bestilling\, klikk HER!
URL:https://solbukta.no/arrangement/solbuktafestivalen-stevnet/
LOCATION:Solbukta\, Solbuktaveien 33\, Gresvik\, 1621\, Norge
CATEGORIES:Fellesskap,Konserter
ATTACH;FMTTYPE=image/jpeg:https://solbukta.no/wp-content/uploads/2021/06/Solbuktafestivalen-2021-nettbilde.jpg
END:VEVENT
BEGIN:VEVENT
DTSTART;TZID=Europe/Oslo:20210806T190000
DTEND;TZID=Europe/Oslo:20210806T203000
DTSTAMP:20260423T165347
CREATED:20210615T213914Z
LAST-MODIFIED:20210615T213914Z
UID:5115-1628276400-1628281800@solbukta.no
SUMMARY:Festivalkonsert: Renate Gjerløw Larsen m.fl.
DESCRIPTION:Årets SolbuktaFestival starter fredag 6. august! Grillkroa\, kiosk og andre fasiliteter er åpent for publikum fra kl 16.00. Konsert kl 19.00 med Renate Gjerløw Larsen\, Anina Radotina og Trond Gilberg! Dette er 3.dje året Renate og Anina har konsert på SolbuktaFestivalen\, rett og slett fordi svært mange har «bestilt» dette om igjen. Selvsagt er det helt ny konsert hver gang\,- og i år har de fått med seg Trond Gilberg på piano. Trond GIlberg er til daglig kantor i Glemmen Kirke i Fredrikstad. \nFor å se årets program\, klikk HER! \n 
URL:https://solbukta.no/arrangement/festivalkonsert-renate-gjerlow-larsen-m-fl/
LOCATION:Solbukta\, Solbuktaveien 33\, Gresvik\, 1621\, Norge
CATEGORIES:Festival,Konserter
ORGANIZER;CN="Solbukta":MAILTO:booking@solbukta.no
END:VEVENT
END:VCALENDAR