BEGIN:VCALENDAR
VERSION:2.0
PRODID:-//Solbukta - ECPv6.15.20//NONSGML v1.0//EN
CALSCALE:GREGORIAN
METHOD:PUBLISH
X-ORIGINAL-URL:https://solbukta.no
X-WR-CALDESC:Arrangement for Solbukta
REFRESH-INTERVAL;VALUE=DURATION:PT1H
X-Robots-Tag:noindex
X-PUBLISHED-TTL:PT1H
BEGIN:VTIMEZONE
TZID:Europe/Oslo
BEGIN:DAYLIGHT
TZOFFSETFROM:+0100
TZOFFSETTO:+0200
TZNAME:CEST
DTSTART:20200329T010000
END:DAYLIGHT
BEGIN:STANDARD
TZOFFSETFROM:+0200
TZOFFSETTO:+0100
TZNAME:CET
DTSTART:20201025T010000
END:STANDARD
BEGIN:DAYLIGHT
TZOFFSETFROM:+0100
TZOFFSETTO:+0200
TZNAME:CEST
DTSTART:20210328T010000
END:DAYLIGHT
BEGIN:STANDARD
TZOFFSETFROM:+0200
TZOFFSETTO:+0100
TZNAME:CET
DTSTART:20211031T010000
END:STANDARD
BEGIN:DAYLIGHT
TZOFFSETFROM:+0100
TZOFFSETTO:+0200
TZNAME:CEST
DTSTART:20220327T010000
END:DAYLIGHT
BEGIN:STANDARD
TZOFFSETFROM:+0200
TZOFFSETTO:+0100
TZNAME:CET
DTSTART:20221030T010000
END:STANDARD
END:VTIMEZONE
BEGIN:VEVENT
DTSTART;VALUE=DATE:20210618
DTEND;VALUE=DATE:20210621
DTSTAMP:20260423T193024
CREATED:20210227T230645Z
LAST-MODIFIED:20210520T220046Z
UID:4608-1623974400-1624233599@solbukta.no
SUMMARY:Mini-sommerleir: AVLYST
DESCRIPTION:Dette er sommerleiren for de yngste 🙂 \nPåmelding: \nKLIKK HER
URL:https://solbukta.no/arrangement/mini-sommerleir/
CATEGORIES:Sommerleir
ATTACH;FMTTYPE=image/jpeg:https://solbukta.no/wp-content/uploads/2020/05/620_09.jpg
END:VEVENT
END:VCALENDAR